Workbook
Name 录入表: #REF!
Name 录入表: #REF!

Sheet 基本情况
A1: 表一
A2: 2020年部门预算基本情况
A3: 单位名称 | B3: 人数 | C3: 备注
A4: 主要职能 湖南湘乡经济开发区管理委员会是湘乡市委、市人民政府的派出机构，副县级单位，主要职责：贯彻执行国家对开发区的相关法律、法规、政策，负责编制园区总体规划和专项发展规划并组织实施；负责审核园区的投资项目，并按照规定权限审批或报批；负责园区土地的综合管理和开发利用；负责园区各项基础设施和公共设施的建设和管理；负责管理园区的财政收支、规划控制、工程招标、权属登记、劳动人事、综合治理、计划生育等工作；负责指导协调园区招商引资、产业发展、对外经济技术合作和进出口事务等工作；负责承办市委、市政府交办的其他工作。
A5: 在职人员人数 | B5: 115
A6: 其中：公务员及参公人员数 | B6: 31
A7: 其中：非参公事业人员数 | B7: 84
A8: 离退休人员数 | B8: 9
A9: 其中：离休人员数 | B9: 0
A10: 公车实有数 | B10: 3
A11: 其中：市领导用车数 | B11: 0
A12: 享受遗属补助人数
A13: 享受其他补助人数 | B13: 61

Sheet 基本数据
A1: 表二
A2: 2020年部门预算基本数据表
A3: 单位名称 | B3: 湖南湘乡经济开发区管理委员会
A4: 项目内容 | B4: 基本数据 | C4: 备注
A5: 单位月缴费基数 | B5: 540355
A6: 公用经费执行标准 | B6: 10800
A7: 公用经费执行人数 | B7: 115
A8: 均衡性公用经费 | B8: 400000 | C8: 按年5万、4万元或0填列
A9: 公务员及参公管理事业人员月基本工资（元） | B9: 112327 | C9: 按月金额填列
A10: 公务员及参公管理事业人员月津贴、补贴（元） | B10: 57959 | C10: 按月金额填列
A11: 警衔津贴（元） | B11: 0 | C11: 按月金额填列
A12: 特殊岗位津贴（元） | B12: 440 | C12: 按月金额填列
A13: 交通补贴（元） | B13: 65090 | C13: 按月金额填列
A14: 乡镇工作补贴（元） | C14: 按月金额填列
A15: 事业绩效工资人员月基本工资（元） | B15: 221067 | C15: 按月金额填列
A16: 事业人员月绩效工资（基础性绩效工资和奖励性绩效工资）（元） | B16: 148562 | C16: 按月金额填列
A17: 离休人员月月生活补贴（元） | C17: 按月金额填列
A18: 1937年7月7日到1945年9月2日参加革命工作的生活长期完全不能自理的离休干部护理费标准每人每月1200元 | C18: 按月金额填列
A19: 1945年9月3日到1949年9月30日参加革命工作的生活长期完全不能自理的离休干部护理费标准每人每月1000元 | C19: 按月金额填列
A20: 2014年鉴定的生活长期完全不能自理的离退休干部护理费标准每人每月1000元 | C20: 按月金额填列
A21: 抗日战争时期参加革命工作的离休干部的遗孀生活补助每人每月1000元，配偶每人每月680元， | C21: 按月金额填列
A22: 解放战争时期参加革命工作的离休干部的遗孀生活补助费每人每月900元，配偶每人每月630元安排。 | C22: 按月金额填列
A23: 对建国前参加革命工作，建国后经组织批准退职的干部按本人参加革命工作的不同时期计发生活补助。解放战争时期的每人每月900元安排 | C23: 按月金额填列
A24: 厅（师）局级离休干部（80元/月） | C24: 按月金额填列
A25: 副处（县）级离休干部（52元/月） | C25: 按月金额填列
A26: 一般离休干部（45元/月） | C26: 按月金额填列
A27: 月遗属补助数 | C27: 按月金额填列
A28: 月其他补助数 | B28: 506833 | C28: 按月金额填列
A29: 是否缴纳工伤保险 | B29: 是 | C29: 填是或否
A30: 是否缴纳失业保险 | B30: 是 | C30: 填是或否

Sheet 1部门收支预算总表
A1: 表三
A2: 2020年部 门 收 支 预 算 总 表
A3: 编制单位：湖南湘乡经济开发区管理委员会 | F3: 金额单位：元
A4: 收 入 | C4: 支 出
A5: 项 目 | B5: 2020年预算数 | C5: 项 目（按支出功能科目分类） | D5: 2020年预算数 | E5: 项目（按经济科目分类） | F5: 金额
A6: 一、公共财政预算拨款 | B6: =SUM(B7:B8) -> 203650000 | C6: 一、一般公共服务支出 | D6: 50624039 | E6: 一、基本支出 | F6: =F7+F8+F9 -> 21137252
A7: 1.经费拨款 | B7: 203650000 | C7: 二、外交支出 | E7: 1、工资福利支出 | F7: 18975986
A8: 2.纳入公共财政预算管理的非税收入安排的资金 | B8: =SUM(B9:B14) -> 0 | C8: 三、国防支出 | E8: 2、商品和服务支出 | F8: 2018458
A9: （1）专项收入安排的资金 | C9: 四、公共安全支出 | D9: 1300000 | E9: 3、对个人和家庭补助支出 | F9: 142808
A10: （2）行政事业性收费收入安排的资金 | C10: 五、教育支出 | E10: 二、项目支出 | F10: 182512748
A11: （3）罚没收入安排的资金 | C11: 六、科学技术支出 | D11: 55500000 | E11: 三、上缴上级支出
A12: （4）国有资本经营收入安排的资金 | C12: 七、文化旅游体育与传媒支出 | E12: 四、事业单位经营支出
A13: （5）国有资源（资产）有偿使用收入安排的资金 | C13: 八、社会保障和就业支出 | D13: 1535711 | E13: 五、对下级单位补助支出
A14: （6）其他收入安排的资金 | C14: 九、卫生健康支出 | D14: 1068530
A15: 二、政府性基金拨款 | C15: 十、节能环保支出 | D15: 12159855
A16: 三、纳入财政专户管理的收入安排的资金 | C16: 十一、城乡社区支出 | D16: 48866393
A17: 1.教育收费收入安排的资金 | C17: 十二、农林水支出 | D17: 2975617
A18: 2.其他收入安排的资金 | C18: 十三、交通运输支出 | D18: 1700000
A19: 四、未纳入财政专户管理的收入安排的资金 | C19: 十四、资源勘探工业信息等支出 | D19: 25000000
A20: 1.事业收入安排的资金 | C20: 十五、商业服务业等支出
A21: 2.经营收入安排的资金 | C21: 十六、金融支出
A22: 3.其他收入安排的资金 | C22: 十七、援助其他地区支出
A23: 五、上级补助收入 | C23: 十八、自然资源海洋气象等支出
A24: 六、附属单位缴款 | C24: 十九、住房保障支出 | D24: 1595855
C25: 二十、粮油物资储备支出
C26: 二十一、灾害防治及应急管理支出 | D26: 1324000
C27: 二十二、预备费
C28: 二十三、其他支出
C29: 二十四、转移性支出
C30: 二十五、债务还本支出
C31: 二十六、债务付息支出
C32: 二十七、债务发行费用支出
A33: 本 年 收 入 合 计 | B33: =B6+B15+B16+B19+B23+B24 -> 203650000 | C33: 本 年 支 出 合 计 | D33: =SUM(D6:D32) -> 203650000 | F33: =F15+F10+F6 -> 203650000
A34: 上年结转 | C34: 结转下年
A35: 收 入 总 计 | B35: =B34+B33 -> 203650000 | C35: 支 出 总 计 | D35: =D34+D33 -> 203650000 | F35: =F34+F33 -> 203650000

Sheet 2部门收入总表
A1: 表四
A2: 2020年部门收入总表
A3: 单位名称：湖南湘乡经济开发区管理委员会 | L3: 金额单位：元
A4: 科目编码 | D4: 单位名称(功能分类科目名称) | E4: 项目名称 | F4: 总计 | G4: 一般公共预算拨款收入 | H4: 政府性基金拨款收入 | I4: 纳入专户管理的非税收入拨款收入 | J4: 未纳入专户管理的非税收入拨款收入 | K4: 上级补助收入 | L4: 附属单位缴款 | M4: 备注
A5: 类 | B5: 款 | C5: 项
A6: ** | B6: ** | C6: ** | D6: ** | E6: **
F7: =G7+K7 -> 203650000 | G7: ='1部门收支预算总表'!B6 -> 203650000 | H7: ='1部门收支预算总表'!B15 -> 0 | I7: ='1部门收支预算总表'!B16 -> 0 | J7: ='1部门收支预算总表'!B19 -> 0 | K7: ='1部门收支预算总表'!B23 -> 0 | L7: ='1部门收支预算总表'!B24 -> 0

Sheet 3部门支出总表
A1: 表五
A2: 2020年部门支出总表
A3: 单位名称：湖南湘乡经济开发区管理委员会 | J3: 金额单位：元
A4: 科目编码 | D4: 单位名称 (功能分类科目名称) | E4: 项目名称 | F4: 总计 | G4: 基本支出 | H4: 项目支出 | I4: 上缴上级支出 | J4: 事业单位经营支出 | K4: 对下级单位补助支出
A5: 类 | B5: 款 | C5: 项
A6: ** | B6: ** | C6: ** | D6: ** | E6: ** | F6: 1 | G6: 2 | H6: 3 | I6: 4 | J6: 5 | K6: 6
A7: 201 | B7: 03 | C7: 01 | D7: 行政运行 | E7: 行政运行 | F7: =G7+H7+I7+J7+K7 -> 44074039 | G7: 15127039 | H7: 28947000
A8: 201 | B8: 13 | C8: 08 | D8: 招商引资 | E8: 招商引资 | F8: =G8+H8+I8+J8+K8 -> 2880000 | H8: 2880000
A9: 201 | B9: 31 | C9: 05 | D9: 专项业务 | E9: 党建工作 | F9: =G9+H9+I9+J9+K9 -> 2670000 | H9: 2670000
A10: 201 | B10: 99 | C10: 99 | D10: 其他一般公共服务支出 | E10: 精准扶贫及群众工作 | F10: =G10+H10+I10+J10+K10 -> 1000000 | H10: 1000000
A11: 204 | B11: 02 | C11: 04 | D11: 治安管理 | E11: 平安城市建设、办案专项 | F11: =G11+H11+I11+J11+K11 -> 1300000 | H11: 1300000
A12: 206 | B12: 04 | C12: 99 | D12: 其他技术研究与开发支出 | E12: 研发投入、产业发展、考核奖励 | F12: =G12+H12+I12+J12+K12 -> 55500000 | H12: 55500000
A13: 208 | B13: 05 | C13: 05 | D13: 机关事业单位基本养老保险缴费支出 | E13: 职工养老保险 | F13: =G13+H13+I13+J13+K13 -> 1023807 | G13: 1023807
A14: 208 | B14: 05 | C14: 06 | D14: 机关事业单位职业年金缴费支出 | E14: 职工年金 | F14: =G14+H14+I14+J14+K14 -> 511904 | G14: 511904
A15: 210 | B15: 11 | C15: 02 | D15: 事业单位医疗 | E15: 医疗保险 | F15: =G15+H15+I15+J15+K15 -> 1068530 | G15: 1068530
A16: 211 | B16: 01 | C16: 04 | D16: 环境保护宣传 | E16: 环保专项经费 | F16: =G16+H16+I16+J16+K16 -> 3302000 | H16: 3302000
A17: 211 | B17: 03 | C17: 99 | D17: 其他污染防治支出 | E17: 皮革专项 | F17: =G17+H17+I17+J17+K17 -> 8857855 | H17: 8857855
A18: 212 | B18: 01 | C18: 04 | D18: 城管执法 | E18: 控违拆违支出 | F18: =G18+H18+I18+J18+K18 -> 200000 | H18: 200000
A19: 212 | B19: 02 | C19: 01 | D19: 城乡社区规划与管理 | E19: 施工图审查费用等 | F19: =G19+H19+I19+J19+K19 -> 2000000 | H19: 2000000
A20: 212 | B20: 03 | C20: 99 | D20: 其他城乡社区公共设施支出 | E20: 园区基础设施建设 | F20: =G20+H20+I20+J20+K20 -> 43166393 | H20: 43166393
A21: 212 | B21: 05 | C21: 01 | D21: 城乡社区环境卫生 | E21: 环境卫生 | F21: =G21+H21+I21+J21+K21 -> 3500000 | H21: 3500000
A22: 213 | B22: 01 | C22: 04 | D22: 事业运行 | E22: 农林场所运行 | F22: =G22+H22+I22+J22+K22 -> 1810117 | G22: 1810117
A23: 213 | B23: 01 | C23: 99 | D23: 其他农业支出 | E23: 其他农业支出 | F23: =G23+H23+I23+J23+K23 -> 1165500 | H23: 1165500
A24: 214 | B24: 01 | C24: 99 | D24: 其他交通运输支出 | E24: 园区道路红绿灯、交通安全设施 | F24: =G24+H24+I24+J24+K24 -> 1700000 | H24: 1700000
A25: 215 | B25: 08 | C25: 99 | D25: 其他支持中小企业发展和管理支出 | E25: 企业奖补资金 | F25: =G25+H25+I25+J25+K25 -> 25000000 | H25: 25000000
A26: 221 | B26: 02 | C26: 01 | D26: 住房公积金 | E26: 住房公积金 | F26: =G26+H26+I26+J26+K26 -> 1595855 | G26: 1595855
A27: 2240106 | B27: 01 | C27: 06 | D27: 安全监管 | E27: 安全生产监管专项 | F27: =G27+H27+I27+J27+K27 -> 1324000 | H27: 1324000
E28: 合计 | F28: =SUM(F7:F27) -> 203650000 | G28: =SUM(G7:G27) -> 21137252 | H28: =SUM(H7:H27) -> 182512748

Sheet 4财政拨款收支总表 
A1: 表六
A2: 2020年财政拨款收支总表
A3: 单位名称：湖南湘乡经济开发区管理委员会 | F3: 金额单位:元
A4: 收入项目 | B4: 本年预算 | C4: 支出项目 | D4: 合计 | E4: 一般公共预算财政拨款 | F4: 政府性基金预算财政拨款
A6: 一、本年收入 | B6: =B7+B8 -> 203650000 | C6: 一、一般公共服务支出 | D6: =E6+F6 -> 50624039 | E6: 50624039 | F6: 0
A7: （一）一般公共预算拨款 | B7: 203650000 | C7: 二、外交支出 | D7: =E7+F7 -> 0 | E7: 0 | F7: 0
A8: （二）政府性基金预算拨款 | C8: 三、国防支出 | D8: =E8+F8 -> 0 | F8: 0
C9: 四、公共安全支出 | D9: =E9+F9 -> 1300000 | E9: 1300000 | F9: 0
A10: 二、上年结转 | C10: 五、教育支出 | D10: =E10+F10 -> 0 | F10: 0
A11: （一）一般公共预算拨款 | C11: 六、科学技术支出 | D11: =E11+F11 -> 55500000 | E11: 55500000 | F11: 0
A12: （二）政府性基金预算拨款 | C12: 七、文化旅游体育与传媒支出 | D12: =E12+F12 -> 0 | F12: 0
C13: 八、社会保障和就业支出 | D13: =E13+F13 -> 1535711 | E13: 1535711 | F13: 0
C14: 九、卫生健康支出 | D14: =E14+F14 -> 1068530 | E14: 1068530 | F14: 0
C15: 十、节能环保支出 | D15: =E15+F15 -> 12159855 | E15: 12159855 | F15: 0
C16: 十一、城乡社区支出 | D16: =E16+F16 -> 48866393 | E16: 48866393 | F16: 0
C17: 十二、农林水支出 | D17: =E17+F17 -> 2975617 | E17: 2975617 | F17: 0
C18: 十三、交通运输支出 | D18: =E18+F18 -> 1700000 | E18: 1700000 | F18: 0
C19: 十四、资源勘探工业信息等支出 | D19: =E19+F19 -> 25000000 | E19: 25000000 | F19: 0
C20: 十五、商业服务业等支出 | D20: =E20+F20 -> 0 | F20: 0
C21: 十六、金融支出 | D21: =E21+F21 -> 0 | F21: 0
C22: 十七、援助其他地区支出 | D22: =E22+F22 -> 0 | F22: 0
C23: 十八、国土海洋气象等支出 | D23: =E23+F23 -> 0 | F23: 0
C24: 十九、住房保障支出 | D24: =E24+F24 -> 1595855 | E24: 1595855 | F24: 0
C25: 二十、粮油物资储备支出 | D25: =E25+F25 -> 0 | E25: 0 | F25: 0
C26: 二十一、灾害防治及应急管理支出 | D26: =E26+F26 -> 1324000 | E26: 1324000
C27: 二十二、预备费 | D27: =E27+F27 -> 0 | E27: 0 | F27: 0
C28: 二十三、其他支出 | D28: =E28+F28 -> 0 | E28: 0 | F28: 0
C29: 二十四、转移性支出 | D29: =E29+F29 -> 0
C30: 二十五、债务还本支出 | D30: =E30+F30 -> 0
C31: 二十六、债务付息支出 | D31: =E31+F31 -> 0
C32: 二十七、债务发行费用支出 | D32: =E32+F32 -> 0
A33: 本 年 收 入 合 计 | B33: =B15+B6 -> 203650000 | C33: 本 年 支 出 合 计 | D33: =E33+F33 -> 203650000 | E33: =SUM(E6:E32) -> 203650000 | F33: =SUM(F6:F32) -> 0

Sheet 5一般公共预算支出表（政府预算支出经济分类）
A1: 表七
A2: 2020年预算支出表(政府预算支出经济分类）
A3: 编制单位：湖南湘乡经济开发区管理委员会 | G3: 金额：元
A4: 科目编码 | C4: 科目名称 | D4: 合计 | E4: 基本支出 | F4: 项目支出 | G4: 备注
A5: 类 | B5: 款
A6: 501 | C6: 机关工资福利支出 | D6: =SUM(D7:D10) -> 10332500 | E6: =SUM(E7:E10) -> 10332500 | F6: =SUM(F7:F10) -> 0
B7: 01 | C7: 工资奖金津补贴 | D7: =E7+F7 -> 4703863 | E7: ='6一般公共预算基本支出表 (部门预算支出经济分类)'!E7+'6一般公共预算基本支出表 (部门预算支出经济分类)'!E8+'6一般公共预算基本支出表 (部门预算支出经济分类)'!E9 -> 4703863 | F7: ='6一般公共预算基本支出表 (部门预算支出经济分类)'!F7+'6一般公共预算基本支出表 (部门预算支出经济分类)'!F8+'6一般公共预算基本支出表 (部门预算支出经济分类)'!F9 -> 0
B8: 02 | C8: 社会保障缴费 | D8: =E8+F8 -> 2713021 | E8: ='6一般公共预算基本支出表 (部门预算支出经济分类)'!E12+'6一般公共预算基本支出表 (部门预算支出经济分类)'!E13+'6一般公共预算基本支出表 (部门预算支出经济分类)'!E14+'6一般公共预算基本支出表 (部门预算支出经济分类)'!E15+'6一般公共预算基本支出表 (部门预算支出经济分类)'!E16 -> 2713021 | F8: ='6一般公共预算基本支出表 (部门预算支出经济分类)'!F12+'6一般公共预算基本支出表 (部门预算支出经济分类)'!F13+'6一般公共预算基本支出表 (部门预算支出经济分类)'!F14+'6一般公共预算基本支出表 (部门预算支出经济分类)'!F15+'6一般公共预算基本支出表 (部门预算支出经济分类)'!F16 -> 0
B9: 03 | C9: 住房公积金 | D9: =E9+F9 -> 1595856 | E9: ='6一般公共预算基本支出表 (部门预算支出经济分类)'!E17 -> 1595856 | F9: ='6一般公共预算基本支出表 (部门预算支出经济分类)'!F17 -> 0
B10: 99 | C10: 其他工资福利支出 | D10: =E10+F10 -> 1319760 | E10: ='6一般公共预算基本支出表 (部门预算支出经济分类)'!E10+'6一般公共预算基本支出表 (部门预算支出经济分类)'!E18 -> 1319760 | F10: ='6一般公共预算基本支出表 (部门预算支出经济分类)'!F10+'6一般公共预算基本支出表 (部门预算支出经济分类)'!F18 -> 0
A11: 502 | C11: 机关商品和服务支出 | D11: =SUM(D12:D21) -> 23017536 | E11: =SUM(E12:E21) -> 2799536 | F11: =SUM(F12:F21) -> 20218000
B12: 01 | C12: 办公经费 | D12: =E12+F12 -> 8085476 | E12: ='6一般公共预算基本支出表 (部门预算支出经济分类)'!E21+'6一般公共预算基本支出表 (部门预算支出经济分类)'!E22+'6一般公共预算基本支出表 (部门预算支出经济分类)'!E24+'6一般公共预算基本支出表 (部门预算支出经济分类)'!E25+'6一般公共预算基本支出表 (部门预算支出经济分类)'!E26+'6一般公共预算基本支出表 (部门预算支出经济分类)'!E27+'6一般公共预算基本支出表 (部门预算支出经济分类)'!E28+'6一般公共预算基本支出表 (部门预算支出经济分类)'!E29+'6一般公共预算基本支出表 (部门预算支出经济分类)'!E30+'6一般公共预算基本支出表 (部门预算支出经济分类)'!E33+'6一般公共预算基本支出表 (部门预算支出经济分类)'!E42+'6一般公共预算基本支出表 (部门预算支出经济分类)'!E43+'6一般公共预算基本支出表 (部门预算支出经济分类)'!E45+'6一般公共预算基本支出表 (部门预算支出经济分类)'!E46 -> 2097476 | F12: ='6一般公共预算基本支出表 (部门预算支出经济分类)'!F21+'6一般公共预算基本支出表 (部门预算支出经济分类)'!F22+'6一般公共预算基本支出表 (部门预算支出经济分类)'!F24+'6一般公共预算基本支出表 (部门预算支出经济分类)'!F25+'6一般公共预算基本支出表 (部门预算支出经济分类)'!F26+'6一般公共预算基本支出表 (部门预算支出经济分类)'!F27+'6一般公共预算基本支出表 (部门预算支出经济分类)'!F28+'6一般公共预算基本支出表 (部门预算支出经济分类)'!F29+'6一般公共预算基本支出表 (部门预算支出经济分类)'!F30+'6一般公共预算基本支出表 (部门预算支出经济分类)'!F33+'6一般公共预算基本支出表 (部门预算支出经济分类)'!F42+'6一般公共预算基本支出表 (部门预算支出经济分类)'!F43+'6一般公共预算基本支出表 (部门预算支出经济分类)'!F45+'6一般公共预算基本支出表 (部门预算支出经济分类)'!F46 -> 5988000
B13: 02 | C13: 会议费 | D13: =E13+F13 -> 230000 | E13: ='6一般公共预算基本支出表 (部门预算支出经济分类)'!E34 -> 20000 | F13: ='6一般公共预算基本支出表 (部门预算支出经济分类)'!F34 -> 210000
B14: 03 | C14: 培训费 | D14: =E14+F14 -> 300000 | E14: ='6一般公共预算基本支出表 (部门预算支出经济分类)'!E35 -> 100000 | F14: ='6一般公共预算基本支出表 (部门预算支出经济分类)'!F35 -> 200000
B15: 04 | C15: 专用材料购置费 | D15: =E15+F15 -> 0 | E15: ='6一般公共预算基本支出表 (部门预算支出经济分类)'!E37+'6一般公共预算基本支出表 (部门预算支出经济分类)'!E38+'6一般公共预算基本支出表 (部门预算支出经济分类)'!E39 -> 0 | F15: ='6一般公共预算基本支出表 (部门预算支出经济分类)'!F37+'6一般公共预算基本支出表 (部门预算支出经济分类)'!F38+'6一般公共预算基本支出表 (部门预算支出经济分类)'!F39 -> 0
B16: 05 | C16: 委托业务费 | D16: =E16+F16 -> 10620000 | E16: ='6一般公共预算基本支出表 (部门预算支出经济分类)'!E23+'6一般公共预算基本支出表 (部门预算支出经济分类)'!E40+'6一般公共预算基本支出表 (部门预算支出经济分类)'!E41 -> 220000 | F16: ='6一般公共预算基本支出表 (部门预算支出经济分类)'!F23+'6一般公共预算基本支出表 (部门预算支出经济分类)'!F40+'6一般公共预算基本支出表 (部门预算支出经济分类)'!F41 -> 10400000
B17: 06 | C17: 公务接待费 | D17: =E17+F17 -> 660000 | E17: ='6一般公共预算基本支出表 (部门预算支出经济分类)'!E36 -> 60000 | F17: ='6一般公共预算基本支出表 (部门预算支出经济分类)'!F36 -> 600000
B18: 07 | C18: 因公出国（境）费用 | D18: =E18+F18 -> 0 | E18: ='6一般公共预算基本支出表 (部门预算支出经济分类)'!E31 -> 0 | F18: ='6一般公共预算基本支出表 (部门预算支出经济分类)'!F31 -> 0
A19: 502 | B19: 08 | C19: 公务用车运行维护费 | D19: =E19+F19 -> 90000 | E19: ='6一般公共预算基本支出表 (部门预算支出经济分类)'!E44 -> 90000 | F19: ='6一般公共预算基本支出表 (部门预算支出经济分类)'!F44 -> 0
B20: 09 | C20: 维修（护）费 | D20: =E20+F20 -> 0 | E20: ='6一般公共预算基本支出表 (部门预算支出经济分类)'!E32 -> 0 | F20: ='6一般公共预算基本支出表 (部门预算支出经济分类)'!F32 -> 0
B21: 99 | C21: 其他商品和支出 | D21: =E21+F21 -> 3032060 | E21: ='6一般公共预算基本支出表 (部门预算支出经济分类)'!E47 -> 212060 | F21: ='6一般公共预算基本支出表 (部门预算支出经济分类)'!F47 -> 2820000
A22: 503 | C22: 机关资本性支出（一） | D22: =SUM(D23:D29) -> 79844748 | E22: =SUM(E23:E29) -> 0 | F22: =SUM(F23:F29) -> 79844748
B23: 01 | C23: 房屋建筑物构建 | D23: =E23+F23 -> 0 | E23: ='6一般公共预算基本支出表 (部门预算支出经济分类)'!E79 -> 0 | F23: ='6一般公共预算基本支出表 (部门预算支出经济分类)'!F79 -> 0
B24: 02 | C24: 基础设施建设 | D24: =E24+F24 -> 35000000 | E24: ='6一般公共预算基本支出表 (部门预算支出经济分类)'!E82 -> 0 | F24: ='6一般公共预算基本支出表 (部门预算支出经济分类)'!F82 -> 35000000
B25: 03 | C25: 公务用车购置 | D25: =E25+F25 -> 0 | E25: ='6一般公共预算基本支出表 (部门预算支出经济分类)'!E90 -> 0 | F25: ='6一般公共预算基本支出表 (部门预算支出经济分类)'!F90 -> 0
B26: 05 | C26: 土地征迁补尝和安置支出 | D26: =E26+F26 -> 43744748 | E26: ='6一般公共预算基本支出表 (部门预算支出经济分类)'!E86+'6一般公共预算基本支出表 (部门预算支出经济分类)'!E87+'6一般公共预算基本支出表 (部门预算支出经济分类)'!E88+'6一般公共预算基本支出表 (部门预算支出经济分类)'!E89 -> 0 | F26: ='6一般公共预算基本支出表 (部门预算支出经济分类)'!F86+'6一般公共预算基本支出表 (部门预算支出经济分类)'!F87+'6一般公共预算基本支出表 (部门预算支出经济分类)'!F88+'6一般公共预算基本支出表 (部门预算支出经济分类)'!F89 -> 43744748
B27: 06 | C27: 设备购置 | D27: =E27+F27 -> 1100000 | E27: ='6一般公共预算基本支出表 (部门预算支出经济分类)'!E80+'6一般公共预算基本支出表 (部门预算支出经济分类)'!E81+'6一般公共预算基本支出表 (部门预算支出经济分类)'!E84 -> 0 | F27: ='6一般公共预算基本支出表 (部门预算支出经济分类)'!F80+'6一般公共预算基本支出表 (部门预算支出经济分类)'!F81+'6一般公共预算基本支出表 (部门预算支出经济分类)'!F84 -> 1100000
B28: 07 | C28: 大型修缮 | D28: =E28+F28 -> 0 | E28: ='6一般公共预算基本支出表 (部门预算支出经济分类)'!E83 -> 0 | F28: ='6一般公共预算基本支出表 (部门预算支出经济分类)'!F83 -> 0
B29: 99 | C29: 其他资本性支出 | D29: =E29+F29 -> 0 | E29: ='6一般公共预算基本支出表 (部门预算支出经济分类)'!E85+'6一般公共预算基本支出表 (部门预算支出经济分类)'!E91+'6一般公共预算基本支出表 (部门预算支出经济分类)'!E92+'6一般公共预算基本支出表 (部门预算支出经济分类)'!E93+'6一般公共预算基本支出表 (部门预算支出经济分类)'!E94 -> 0 | F29: ='6一般公共预算基本支出表 (部门预算支出经济分类)'!F85+'6一般公共预算基本支出表 (部门预算支出经济分类)'!F91+'6一般公共预算基本支出表 (部门预算支出经济分类)'!F92+'6一般公共预算基本支出表 (部门预算支出经济分类)'!F93+'6一般公共预算基本支出表 (部门预算支出经济分类)'!F94 -> 0
A30: 504 | C30: 机关资本性支出（二） | D30: =SUM(D31:D36) -> 0 | E30: =SUM(E31:E36) -> 0 | F30: =SUM(F31:F36) -> 0
B31: 01 | C31: 房屋建筑物构建 | D31: =E31+F31 -> 0
B32: 02 | C32: 基础设施建设 | D32: =E32+F32 -> 0
B33: 03 | C33: 公务用车购置 | D33: =E33+F33 -> 0
B34: 04 | C34: 设备购置 | D34: =E34+F34 -> 0
B35: 05 | C35: 大型修缮 | D35: =E35+F35 -> 0
B36: 99 | C36: 其他资本性支出 | D36: =E36+F36 -> 0
A37: 505 | C37: 对事业单位经常性补助 | D37: =SUM(D38:D40) -> 9512408 | E37: =SUM(E38:E40) -> 7862408 | F37: =SUM(F38:F40) -> 1650000
B38: 01 | C38: 工资福利支出 | D38: =E38+F38 -> 9512408 | E38: ='6一般公共预算基本支出表 (部门预算支出经济分类)'!E11+'6一般公共预算基本支出表 (部门预算支出经济分类)'!E19 -> 7862408 | F38: ='6一般公共预算基本支出表 (部门预算支出经济分类)'!F11+'6一般公共预算基本支出表 (部门预算支出经济分类)'!F19 -> 1650000
B39: 02 | C39: 商品和服务支出 | D39: =E39+F39 -> 0
B40: 99 | C40: 其他对事业单位补助 | D40: =E40+F40 -> 0
...

Sheet 6一般公共预算基本支出表 (部门预算支出经济分类)
A1: 表八
A2: 2020年预算支出表(部门预算支出经济分类）
A3: 编制单位：湖南湘乡经济开发区管理委员会 | F3: 金额：元
A4: 科目编码 | C4: 科目名称 | D4: 合计 | E4: 基本支出 | F4: 项目支出 | G4: 备注
A5: 类 | B5: 款
A6: 301 | C6: 工资福 利支出 | D6: =SUM(D7:D19) -> 19844908 | E6: =SUM(E7:E19) -> 18194908 | F6: =SUM(F7:F19) -> 1650000
B7: 01 | C7: 基本工资 | D7: =E7+F7 -> 3897048 | E7: 3897048
B8: 02 | C8: 津贴补贴 | D8: =E8+F8 -> 703128 | E8: 703128
B9: 03 | C9: 奖金 | D9: =E9+F9 -> 103687 | E9: 103687
B10: 06 | C10: 伙食补助费 | D10: =E10+F10 -> 1319760 | E10: 1319760
B11: 07 | C11: 绩效工资 | D11: =E11+F11 -> 1780408 | E11: 1780408
B12: 08 | C12: 机关事业单位基本养老保险缴费 | D12: =E12+F12 -> 1023807 | E12: 1023807
B13: 09 | C13: 职业年金缴费 | D13: =E13+F13 -> 511904 | E13: 511904
B14: 10 | C14: 职工基本医疗保险缴费 | D14: =E14+F14 -> 1068530 | E14: 1068530
B15: 11 | C15: 公务员医疗补助缴费 | D15: =E15+F15 -> 0 | E15: 0
B16: 12 | C16: 其他社会保障缴费 | D16: =E16+F16 -> 108780 | E16: 108780
B17: 13 | C17: 住房公积金 | D17: =E17+F17 -> 1595856 | E17: 1595856
B18: 14 | C18: 医疗费 | D18: =E18+F18 -> 0
B19: 99 | C19: 其他工资福利支出 | D19: =E19+F19 -> 7732000 | E19: 6082000 | F19: 1650000
A20: 302 | C20: 商品和服务支 出 | D20: =SUM(D21:D47) -> 23017536 | E20: =SUM(E21:E47) -> 2799536 | F20: =SUM(F21:F47) -> 20218000
B21: 01 | C21: 办公费 | D21: =E21+F21 -> 1108000 | E21: 400000 | F21: 708000
B22: 02 | C22: 印刷费 | D22: =E22+F22 -> 1700000 | E22: 200000 | F22: 1500000
B23: 03 | C23: 咨询费 | D23: =E23+F23 -> 3620000 | E23: 120000 | F23: 3500000
B24: 04 | C24: 手续费 | D24: =E24+F24 -> 70000 | E24: 10000 | F24: 60000
B25: 05 | C25: 水费 | D25: =E25+F25 -> 70000 | E25: 50000 | F25: 20000
B26: 06 | C26: 电费 | D26: =E26+F26 -> 500000 | F26: 500000
B27: 07 | C27: 邮电费 | D27: =E27+F27 -> 200000 | E27: 100000 | F27: 100000
B28: 08 | C28: 取暖费 | D28: =E28+F28 -> 0
B29: 09 | C29: 物业管理费 | D29: =E29+F29 -> 120000 | E29: 20000 | F29: 100000
B30: 11 | C30: 差旅费 | D30: =E30+F30 -> 600000 | E30: 200000 | F30: 400000
B31: 12 | C31: 因公出国（境）费用 | D31: =E31+F31 -> 0
B32: 13 | C32: 维修(护) 费 | D32: =E32+F32 -> 0
B33: 14 | C33: 租赁费 | D33: =E33+F33 -> 2550000 | E33: 50000 | F33: 2500000
B34: 15 | C34: 会议费 | D34: =E34+F34 -> 230000 | E34: 20000 | F34: 210000
B35: 16 | C35: 培训费 | D35: =E35+F35 -> 300000 | E35: 100000 | F35: 200000
B36: 17 | C36: 公务接待费 | D36: =E36+F36 -> 660000 | E36: 60000 | F36: 600000
B37: 18 | C37: 专用材料费 | D37: =E37+F37 -> 0
B38: 24 | C38: 被装购置费 | D38: =E38+F38 -> 0
B39: 25 | C39: 专用燃料费 | D39: =E39+F39 -> 0
B40: 26 | C40: 劳务费 | D40: =E40+F40 -> 950000 | E40: 50000 | F40: 900000
...

Sheet 7政府性基金支出表
A1: 表九
A2: 2020年部门政府性基金预算支出表
A3: 单位名称：湖南湘乡经济开发区管理委员会 | M3: 金额：元
A4: 科目编码 | D4: 单位名称(功能分类科目名称) | E4: 项目名称 | F4: 总计 | G4: 基本支出 | K4: 项目支出
A5: 类 | B5: 款 | C5: 项 | G5: 合计 | H5: 工资福利支出 | I5: 商品和服务支出 | J5: 对个人和家庭的补助 | K5: 合计 | L5: 业务性专项 | M5: 项目性专项
A6: ** | B6: ** | C6: ** | D6: ** | E6: ** | F6: 1 | G6: 2 | H6: 3 | I6: 4 | J6: 5 | K6: 6 | L6: 7 | M6: 8
F7: =G7+K7 -> 0 | G7: =H7+I7+J7 -> 0 | K7: =L7+M7 -> 0
F8: =G8+K8 -> 0 | G8: =H8+I8+J8 -> 0 | K8: =L8+M8 -> 0
F9: =G9+K9 -> 0 | G9: =H9+I9+J9 -> 0 | K9: =L9+M9 -> 0
F10: =G10+K10 -> 0 | G10: =H10+I10+J10 -> 0 | K10: =L10+M10 -> 0
F11: =G11+K11 -> 0 | G11: =H11+I11+J11 -> 0 | K11: =L11+M11 -> 0
D12: 合计 | F12: =SUM(F7:F11) -> 0 | G12: =SUM(G7:G11) -> 0 | H12: =SUM(H7:H11) -> 0 | I12: =SUM(I7:I11) -> 0 | J12: =SUM(J7:J11) -> 0 | K12: =SUM(K7:K11) -> 0 | L12: =SUM(L7:L11) -> 0 | M12: =SUM(M7:M11) -> 0

Sheet 8“三公”经费预算表
A1: 表十
A2: 2020年公共财政拨款“三公”经费及会议费预算表
A3: 编制单位：湖南湘乡经济开发区管理委员会 | G3: 金额 单位：元
A4: 项目 | B4: 2019年预算数 | E4: 2020年预算数
B5: 合计 | C5: 基本支出 | D5: 项目支出 | E5: 合计 | F5: 基本支出 | G5: 项目支出
A6: 合计 | B6: =C6+D6 -> 980000 | C6: 170000 | D6: 810000 | E6: =F6+G6 -> 980000 | F6: =F7+F8+F9+F12 -> 170000 | G6: =G7+G8+G9+G12 -> 810000
A7: 1.因公出国（境）费用 | B7: =C7+D7 -> 0 | E7: =F7+G7 -> 0
A8: 2.公务接待费 | B8: =C8+D8 -> 660000 | C8: 60000 | D8: 600000 | E8: =F8+G8 -> 660000 | F8: 60000 | G8: 600000
A9: 3.公务用车费 | B9: =C9+D9 -> 90000 | C9: 90000 | E9: =F9+G9 -> 90000 | F9: 90000
A10: 其中：（1）公务用车运行维护费 | B10: =C10+D10 -> 90000 | C10: 90000 | E10: =F10+G10 -> 90000 | F10: 90000
A11: （2）公务用车购置 | B11: =C11+D11 -> 0 | E11: =F11+G11 -> 0
A12: 4、会议费 | B12: =C12+D12 -> 230000 | C12: 20000 | D12: 210000 | E12: =F12+G12 -> 230000 | F12: 20000 | G12: 210000

Sheet 9项目支出明细表
A1: 表十一
A2: 专项支出明细表
A3: 编制单位：湖南湘乡经济开发区管理委员会 | F3: 金额单位：元
A4: 单位名称 | B4: 功能科目 | E4: 项目名称 | F4: 金额
A6: ** | B6: 类 | C6: 款 | D6: 项 | E6: 合 计 | F6: =SUM(F7:F51) -> 182512748
A7: 经开区 | B7: 201 | C7: 03 | D7: 01 | E7: 宣传工作 | F7: 1500000
A8: 经开区 | B8: 201 | C8: 03 | D8: 01 | E8: 办公场地租赁费 | F8: 1250000
A9: 经开区 | B9: 201 | C9: 03 | D9: 01 | E9: 项目申报前期费用 | F9: 1000000
A10: 经开区 | B10: 201 | C10: 03 | D10: 01 | E10: 收入征管工作专项 | F10: 850000
A11: 经开区 | B11: 201 | C11: 03 | D11: 01 | E11: 开工仪式专项 | F11: 450000
A12: 经开区 | B12: 201 | C12: 03 | D12: 01 | E12: 综合治理 | F12: 1334000
A13: 经开区 | B13: 201 | C13: 03 | D13: 01 | E13: 节约集约评价 | F13: 280000
A14: 经开区 | B14: 201 | C14: 03 | D14: 01 | E14: 土地评估 | F14: 580000
A15: 经开区 | B15: 201 | C15: 03 | D15: 01 | E15: 违法用地专项整治 | F15: 130000
A16: 经开区 | B16: 201 | C16: 03 | D16: 01 | E16: 空间规划编制资金 | F16: 5000000
A17: 经开区 | B17: 201 | C17: 03 | D17: 01 | E17: 规划测绘、消防等相关购买服务费 | F17: 1000000
A18: 经开区 | B18: 201 | C18: 03 | D18: 01 | E18: 建筑面积复核报告 | F18: 700000
... A27: 经开区 | B27: 201 | C27: 99 | D27: 99 | E27: 精准扶贫及群众工作 | F27: 1000000
A28: 经开区 | B28: 204 | C28: 02 | D28: 99 | E28: 公安办案 | F28: 200000
A29: 经开区 | B29: 204 | C29: 02 | D29: 99 | E29: 平安城市电子防控系统建设 | F29: 1100000
A30: 经开区 | B30: 206 | C30: 04 | D30: 99 | E30: 园区产业发展资金 | F30: 50000000
A31: 经开区 | B31: 206 | C31: 04 | D31: 99 | E31: 研发投入专项 | F31: 2500000
A32: 经开区 | B32: 206 | C32: 04 | D32: 99 | E32: 企业目标管理考核奖励 | F32: 3000000
A33: 经开区 | B33: 211 | C33: 02 | D33: 99 | E33: 环保专项经费 | F33: 3302000
A34: 经开区 | B34: 211 | C34: 03 | D34: 99 | E34: 皮革工业园专项 | F34: 1300000
A35: 经开区 | B35: 211 | C35: 03 | D35: 99 | E35: 污水处理厂专项 | F35: 3000000
A36: 经开区 | B36: 211 | C36: 03 | D36: 99 | E36: 原湖铁综合治理专项 | F36: 4557855
A37: 经开区 | B37: 212 | C37: 01 | D37: 04 | E37: 控违拆违支出 | F37: 200000
A38: 经开区 | B38: 212 | C38: 02 | D38: 01 | E38: 施工图审查费用 | F38: 800000
A39: 经开区 | B39: 212 | C39: 02 | D39: 01 | E39: 工程预算编制 | F39: 400000
A40: 经开区 | B40: 212 | C40: 02 | D40: 01 | E40: 工程勘察设计费 | F40: 800000
A41: 经开区 | B41: 212 | C41: 03 | D41: 99 | E41: 园区提质改造工程 | F41: 22366393
A42: 经开区 | B42: 212 | C42: 03 | D42: 99 | E42: 基础设施建设费用 | F42: 18000000
A43: 经开区 | B43: 212 | C43: 03 | D43: 99 | E43: 园区路灯变压器电费 | F43: 800000
A44: 经开区 | B44: 212 | C44: 03 | D44: 99 | E44: 其他零星工程 | F44: 2000000
A45: 经开区 | B45: 212 | C45: 05 | D45: 01 | E45: 城乡社区环境卫生 | F45: 3500000
A46: 经开区 | B46: 213 | C46: 01 | D46: 99 | E46: 农科园专项经费 | F46: 1000000
A47: 经开区 | B47: 213 | C47: 01 | D47: 99 | E47: 场所、村级组织运行 | F47: 165500
A48: 经开区 | B48: 214 | C48: 01 | D48: 99 | E48: 园区道路红绿灯、交通安全设施 | F48: 1700000
A49: 经开区 | B49: 215 | C49: 08 | D49: 99 | E49: 园区企业奖补资金 | F49: 25000000
...

Sheet 10政府采购预算表
A1: 表十二
A2: 2020年政府采购预算表
A3: 编制单位：湖南湘乡经济开发区管理委员会 | T3: 金额单位：元
A4: 单位名称 | B4: 预算科目 | D4: 项 目 | F4: 规 格 要 求 | G4: 数量 | H4: 计量单位 | I4: 资 金 来 源
B5: 代码 | C5: 名称 | D5: 采购项目 | E5: 采购品目 | I5: 总计 | J5: 公共预算财政拨款（补助） | O5: 基金预算财政拨款(补助) | P5: 专项收入和成品油税改经费 拨 款 | Q5: 财政代管资金专户拨款 | R5: 事业单位经营服务收入 | S5: 单位结余 | T5: 其他收入 | U5: 上级补助收入 | V5: 附属单位上缴收入
J6: 小计 | K6: 预算拨 款补助 | L6: 罚没款 收 入 | M6: 行政性收费收入 | N6: 国有资源有偿使用收入
A7: 1 | B7: 2 | C7: 3 | D7: 4 | E7: 5 | F7: 6 | G7: 7 | H7: 8 | I7: 9 | J7: 10 | K7: 11 | L7: 12 | M7: 13 | N7: 14 | O7: 15 | P7: 16 | Q7: 17 | R7: 18 | S7: 19 | T7: 20 | U7: 21 | V7: 22
I12: =J12+O12+P12+Q12+R12+S12+T12+U12+V12 -> 0 | J12: =SUM(K12:N12) -> 0
I13: =J13+O13+P13+Q13+R13+S13+T13+U13+V13 -> 0 | J13: =SUM(K13:N13) -> 0

Sheet 11非税收入表 
A1: 表十三
A2: 2020年非税收入预算表
A3: 编制单位：湖南湘乡经济开发区管理委员会 | D3: 金额:元
A4: 纳入公共财政预算管理的非税收入
A5: 项 目 | B5: 本年预计收入 | C5: 部门预算中纳入的非税收入 | D5: 备注
A6: 一、纳入公共财政预算管理的非税收入 | B6: =SUM(B7:B13) -> 0 | C6: =SUM(C7:C13) -> 0 | D6: 0
A7: （1）专项收入 | C7: ='1部门收支预算总表'!B9 -> 0 | D7: 0
A8: （2）行政事业性收费收入 | C8: ='1部门收支预算总表'!B10 -> 0 | D8: 0
A9: （3）罚没收入 | C9: ='1部门收支预算总表'!B11 -> 0 | D9: 0
A10: （4）国有资本经营收入 | C10: ='1部门收支预算总表'!B12 -> 0 | D10: 0
A11: （5）国有资源（资产）有偿使用收入 | C11: ='1部门收支预算总表'!B13 -> 0 | D11: 0
A12: （6）其他收入 | C12: ='1部门收支预算总表'!B14 -> 0 | D12: 0
A13: 二、政府性基金收入 | C13: ='1部门收支预算总表'!B15 -> 0 | D13: 0
A14: 三、纳入财政专户管理的收入 | B14: =SUM(B15:B16) -> 0 | C14: ='1部门收支预算总表'!B16 -> 0 | D14: 0
A15: 1.教育收费收入 | C15: ='1部门收支预算总表'!B17 -> 0 | D15: 0
A16: 2.其他收入 | C16: ='1部门收支预算总表'!B18 -> 0 | D16: 0
A17: 四、未纳入财政专户管理的收入 | B17: =SUM(B18:B20) -> 0 | C17: 67000000 | D17: 0
A18: 1.事业收入 | C18: ='1部门收支预算总表'!B20 -> 0 | D18: 0
A19: 2.经营收入 | C19: ='1部门收支预算总表'!B21 -> 0 | D19: 0
A20: 3.其他收入 | C20: 67000000 | D20: 0
D21: 0
A23: 本 年 收 入 合 计 | B23: =B15+B6 -> 0 | C23: =C6+C13+C14+C17 -> 67000000 | D23: =SUM(D6:D22) -> 0

Sheet 12非税收入安排的支出表
A1: 表十四
A2: 2020年部门预算中非税收入安排的支出表
A3: 编制单位：湖南湘乡经济开发区管理委员会 | C3: 金额单位:元
A4: 项 目 | B4: 数额 | C4: 备注
A5: 一、一般公共服务支出 | C5: 0
A6: 二、外交支出 | C6: 0
A7: 三、国防支出 | C7: 0
A8: 四、公共安全支出 | C8: 0
A9: 五、教育支出 | C9: 0
A10: 六、科学技术支出 | C10: 0
A11: 七、文化体育与传媒支出 | C11: 0
A12: 八、社会保障和就业支出 | C12: 0
A13: 九、医疗卫生与计划生育支出 | C13: 0
A14: 十、节能环保支出 | C14: 0
A15: 十一、城乡社区支出 | B15: 67000000 | C15: 0
A16: 十二、农林水事务支出 | C16: 0
A17: 十三、交通运输支出 | C17: 0
A18: 十四、资源勘探信息等支出 | C18: 0
A19: 十五、商业服务业等支出 | C19: 0
A20: 十六、金融支出 | C20: 0
A21: 十七、援助其他地区支出 | C21: 0
A22: 十八、国土海洋气象等支出 | C22: 0
A23: 十九、住房保障支出 | C23: 0
A24: 二十、粮油物资储备支出 | C24: 0
A25: 二十一、预备费 | C25: 0
A26: 二十二、国债还本付息支出 | C26: 0
A27: 二十三、其他支出
A28: 二十四、转移性支出
A29: 本 年 支 出 合 计 | B29: =SUM(B5:B28) -> 67000000 | C29: =SUM(C5:C28) -> 0

Sheet 13政府购买服务预算表
A1: 表十五
A2: 政府购买服务项目支出（预算）表
A3: 编制单位：湖南湘乡经济开发区管理委员会 | O3: 金额单位：元
A4: 单位名称 | B4: 单位代码 | C4: 支出功能科目名称 | D4: 支出功能科目 编码 | E4: 采购品目名称 | F4: 采购品目代码 | G4: 购买服务内容 | H4: 购买服务金额
H5: 合计 | I5: 一般公共预算拨款 | L5: 政府性基 金 | M5: 专户 | N5: 上级财政补助 | P5: 其他资金
I6: 小计 | J6: 经费拨款 | K6: 纳入一般公共预算管理的非税收入 | M6: 管理的非税收 入 | N6: 公共财政补助 | O6: 政府性基金补 助
