Workbook

Sheet 人员工资数据表 
A1: 表一
A2: 湘乡市乡镇办2021年财政体制人员工资情况汇总表
A3: 编制单位：湘乡市财政局预算股
A4: 单位 | B4: 行政人员（包含财政所） | J4: 行政人员 | R4: 财政所人员 | Z4: 事业人员 | AH4: 公益性岗位人员 | AP4: 非公益岗位事业人员（原全额编制人员） | AX4: 2013年以来安排的退伍安置人员 | BF4: 离休人员 | BM4: 非公益岗位事业人员（原差额编制人员） | CC4: 遗属人员 | CE4: 精简下放人员、工伤人员等 | CH4: 离退休人数合计
B5: 合 计 | C5: 人数小计 | D5: 月基本工资小计 | E5: 月津补贴小计 | F5: 乡镇工作补贴小计 | G5: 公车补贴小计 | H5: 其他工资福利小计 | I5: 月缴费基数小计 | J5: 合计 | K5: 人数 | L5: 月基本工资 | M5: 月津贴 | N5: 乡镇工作补贴 | O5: 公车补贴 | P5: 其他工资福利小计 | Q5: 月缴费基数 | R5: 合计 | S5: 人数 | T5: 月基本工资合计 | U5: 月津补贴合计 | V5: 乡镇工作补贴 | W5: 公车补贴小计 | X5: 其他工资福利小计 | Y5: 月缴费基数 | Z5: 合 计 | AA5: 人数小计 | AB5: 月基本工资小计 | AC5: 月津补贴小计 | AD5: 乡镇工作补贴小计 | AE5: 公车补贴小计 | AF5: 其他工资福利小计 | AG5: 月缴费基数小计 | AH5: 合计 | AI5: 人数 | AJ5: 月基本工资合计 | AK5: 月津补贴合计 | AL5: 乡镇工作补贴 | AM5: 公车补贴小计 | AN5: 其他工资福利小计 | AO5: 月缴费基数 | AP5: 合计 | AQ5: 人数 | AR5: 月基本工资 | AS5: 月津贴 | AT5: 乡镇工作补贴 | AU5: 公车补贴小计 | AV5: 其他工资福利小计 | AW5: 月缴费基数 | AX5: 合计 | AY5: 人数 | AZ5: 月基本工资 | BA5: 月津贴 | BB5: 乡镇工作补贴 | BC5: 公车补贴小计 | BD5: 其他工资福利小计 | BE5: 月缴费基数 | BF5: 合计 | BG5: 人数 | BH5: 地区津补贴 | BI5: 护理费 | BJ5: 遗孀生活补助 | BK5: 解放战争时期的革命人员生活补助 | BL5: 交通补助 | BM5: 改革前林业人员 | BU5: 其他差额编制人员 | CC5: 人数 | CD5: 月补助 | CE5: 小计 | CF5: 精简下放人员 | CG5: 工伤人员、地下党员
BM7: 合计 | BN7: 人数 | BO7: 月基本工资 | BP7: 月津补贴 | BQ7: 乡镇工作补贴 | BR7: 公车补贴 | BS7: 其他工资福利 | BT7: 月缴费基数 | BU7: 合计 | BV7: 人数 | BW7: 月基本工资 | BX7: 月津补贴 | BY7: 乡镇工作补贴 | BZ7: 公车补贴 | CA7: 其他工资福利 | CB7: 月缴费基数
A8: 新湘路 | B8: =D8+E8+F8+G8+H8+I8 -> 423888 | C8: =K8+S8 -> 36 | D8: =L8+T8 -> 115525 | E8: =M8+U8 -> 63380 | F8: =N8+V8 -> 0 | G8: =O8+W8 -> 20620 | H8: =P8+X8 -> 36000 | I8: =Q8+Y8 -> 188363 | J8: =L8+M8+N8+O8+P8 -> 157203 | K8: 22 | L8: 79167 | M8: 42276 | O8: 13760 | P8: 22000 | Q8: 127941 | R8: =T8+U8+V8+W8+X8 -> 78322 | S8: 14 | T8: 36358 | U8: 21104 | W8: 6860 | X8: 14000 | Y8: 60422 | Z8: =AH8+AP8+AX8 -> 408207 | AA8: =AI8+AQ8+AY8 -> 67 | AB8: =AJ8+AR8+AZ8 -> 189269 | AC8: =AK8+AS8+BA8 -> 116008 | AD8: =AL8+AT8+BB8 -> 0 | AE8: =AM8+AU8+BC8 -> 35930 | AF8: =AN8+AV8+BD8 -> 67000 | AG8: =AO8+AW8+BE8 -> 305817 | AH8: =AJ8+AK8+AL8+AM8+AN8 -> 225330 | AI8: 34 | AJ8: 109963 | AK8: 62457 | AM8: 18910 | AN8: 34000 | AO8: 172870 | AP8: =AR8+AS8+AT8+AU8+AV8 -> 63197 | AQ8: 11 | AR8: 28572 | AS8: 18265 | AU8: 5360 | AV8: 11000 | AW8: 46927 | AX8: =AZ8+BA8+BB8+BC8+BD8 -> 119680 | AY8: 22 | AZ8: 50734 | BA8: 35286 | BC8: 11660 | BD8: 22000 | BE8: 86020 | BF8: =BH8+BI8+BJ8+BK8+BL8 -> 0 | BM8: =BO8+BP8+BQ8+BR8+BS8 -> 0 | BU8: =BW8+BX8+BY8+BZ8+CA8 -> 52992 | BV8: 10 | BW8: 24821 | BX8: 16031 | BZ8: 2140 | CA8: 10000 | CB8: 40912 | CC8: 9 | CD8: 6210 | CE8: =CF8+CG8 -> 0 | CH8: 45
A9: 合计 | B9: =SUM(B8:B8) -> 423888 | C9: =SUM(C8:C8) -> 36 | D9: =SUM(D8:D8) -> 115525 | E9: =SUM(E8:E8) -> 63380 | F9: =SUM(F8:F8) -> 0 | G9: =SUM(G8:G8) -> 20620 | H9: =SUM(H8:H8) -> 36000 | I9: =SUM(I8:I8) -> 188363 | ... CG9: =SUM(CG8:CG8) -> 0
A10: 注：1、按2020年10月31日数据编制；
A11: 2、住房公积金：按工资总额加年初预算年初绩效考核奖金安排数的12%编制；
A12: 3、年度绩效考核奖金：纳入2020年度绩效考核范围的单位，按照2020年10月底编制内的在职人数12000元/人；
A13: 4、离退休干部春节慰问费：根据人力资源和社会保障局和离退休干部服务中心核定的人数按800元/人.年安排；
A14: 5、除住房公积金、年度绩效考核奖金、离退休干部春节慰问费外，其余核算标准参照前年；
A15: 6、请于2020年11月16日报送电子档、纸质表（盖单位公章）及相关附件（盖单位公章）至预算股王锋处。

Sheet 村、居委会、社区、人口数据表
B1: 湘乡市乡镇办第六轮财政体制数据
B2: 编制：湘乡市财政局预算股
B3: 单位 | C3: 基础数据
C4: 村、居委会、社区合计 | D4: 村数（个） | E4: 居委会（个） | F4: 社区（个） | G4: 辖区人口数（个）
A7: 1 | B7: 龙洞 | C7: =D7+E7+F7 -> 0 | H7: =#REF!+#REF!+(#REF!-#REF!)/2 -> #REF! | I7: =#REF!+#REF!+#REF!+#REF!+#REF! -> #REF! | J7: =#REF! -> #REF! | K7: =#REF!+#REF!+#REF!+#REF! -> #REF! | L7: =#REF! -> #REF! | M7: =SUM(I7:L7) -> #REF! | N7: =#REF!+#REF! -> #REF! | O7: =N7+M7/2 -> #REF!
A8: 2 | B8: 东郊 | C8: =D8+E8+F8 -> 0 | H8: =#REF!+#REF!+(#REF!-#REF!)/2 -> #REF!
A9: 4 | B9: 梅桥 | C9: =D9+E9+F9 -> 0 | H9: =#REF!+#REF!+(#REF!-#REF!)/2 -> #REF!
A10: 5 | B10: 山枣 | C10: =D10+E10+F10 -> 0 | H10: =#REF!+#REF!+(#REF!-#REF!)/2 -> #REF! | I10: =#REF!+#REF!+#REF!+#REF!+#REF! -> #REF! | J10: =#REF! -> #REF! | K10: =#REF!+#REF!+#REF!+#REF! -> #REF! | L10: =#REF! -> #REF! | M10: =SUM(I10:L10) -> #REF! | N10: =#REF!+#REF! -> #REF! | O10: =N10+M10/2 -> #REF!
A11: 6 | B11: 栗山 | C11: =D11+E11+F11 -> 0 | H11: =#REF!+#REF!+(#REF!-#REF!)/2 -> #REF! | I11: =#REF!+#REF!+#REF!+#REF!+#REF! -> #REF! | J11: =#REF! -> #REF! | K11: =#REF!+#REF!+#REF!+#REF! -> #REF! | L11: =#REF! -> #REF! | M11: =SUM(I11:L11) -> #REF! | N11: =#REF!+#REF! -> #REF! | O11: =N11+M11/2 -> #REF!
A12: 7 | B12: 中沙 | C12: =D12+E12+F12 -> 0 | H12: =#REF!+#REF!+(#REF!-#REF!)/2 -> #REF!
A13: 9 | B13: 潭市 | C13: =D13+E13+F13 -> 0 | H13: =#REF!+#REF!+(#REF!-#REF!)/2 -> #REF!
A14: 8 | B14: 虞唐 | C14: =D14+E14+F14 -> 0 | H14: =#REF!+#REF!+(#REF!-#REF!)/2 -> #REF!
A15: 10 | B15: 毛田 | C15: =D15+E15+F15 -> 0 | H15: =#REF!+#REF!+(#REF!-#REF!)/2 -> #REF!
A16: 11 | B16: 棋梓 | C16: =D16+E16+F16 -> 0 | H16: =#REF!+#REF!+(#REF!-#REF!)/2 -> #REF!
A17: 12 | B17: 壶天 | C17: =D17+E17+F17 -> 0 | H17: =#REF!+#REF!+(#REF!-#REF!)/2 -> #REF! | I17: =#REF!+#REF!+#REF!+#REF!+#REF! -> #REF! | J17: =#REF! -> #REF! | K17: =#REF!+#REF!+#REF!+#REF! -> #REF! | L17: =#REF! -> #REF! | M17: =SUM(I17:L17) -> #REF! | N17: =#REF!+#REF! -> #REF! | O17: =N17+M17/2 -> #REF!
A18: 13 | B18: 翻江 | C18: =D18+E18+F18 -> 0 | H18: =#REF!+#REF!+(#REF!-#REF!)/2 -> #REF! | I18: =#REF!+#REF!+#REF!+#REF!+#REF! -> #REF! | J18: =#REF! -> #REF! | K18: =#REF!+#REF!+#REF!+#REF! -> #REF! | L18: =#REF! -> #REF! | M18: =SUM(I18:L18) -> #REF! | N18: =#REF!+#REF! -> #REF! | O18: =N18+M18/2 -> #REF!
A19: 14 | B19: 金薮 | C19: =D19+E19+F19 -> 0 | H19: =#REF!+#REF!+(#REF!-#REF!)/2 -> #REF!
A20: 15 | B20: 金石 | C20: =D20+E20+F20 -> 0 | H20: =#REF!+#REF!+(#REF!-#REF!)/2 -> #REF!
A21: 16 | B21: 白田 | C21: =D21+E21+F21 -> 0 | H21: =#REF!+#REF!+(#REF!-#REF!)/2 -> #REF!
A22: 17 | B22: 月山 | C22: =D22+E22+F22 -> 0 | H22: =#REF!+#REF!+(#REF!-#REF!)/2 -> #REF!
A23: 18 | B23: 育段 | C23: =D23+E23+F23 -> 0 | H23: =#REF!+#REF!+(#REF!-#REF!)/2 -> #REF!
A24: 19 | B24: 泉塘 | C24: =D24+E24+F24 -> 0 | H24: =#REF!+#REF!+(#REF!-#REF!)/2 -> #REF! | I24: =#REF!+#REF!+#REF!+#REF!+#REF! -> #REF! | J24: =#REF! -> #REF! | K24: =#REF!+#REF!+#REF!+#REF! -> #REF! | L24: =#REF! -> #REF! | M24: =SUM(I24:L24) -> #REF! | N24: =#REF!+#REF! -> #REF! | O24: =N24+M24/2 -> #REF!
A25: 3 | B25: 东山 | C25: =D25+E25+F25 -> 0 | H25: =#REF!+#REF!+(#REF!-#REF!)/2 -> #REF! | I25: =#REF!+#REF!+#REF!+#REF!+#REF! -> #REF! | J25: =#REF! -> #REF! | K25: =#REF!+#REF!+#REF!+#REF! -> #REF! | L25: =#REF! -> #REF! | M25: =SUM(I25:L25) -> #REF! | N25: =#REF!+#REF! -> #REF! | O25: =N25+M25/2 -> #REF!
A26: 20 | B26: 望办 | C26: =D26+E26+F26 -> 0 | H26: =#REF!+#REF!+(#REF!-#REF!)/2 -> #REF!
A27: 21 | B27: 新办 | C27: =D27+E27+F27 -> 0 | H27: =#REF!+#REF!+(#REF!-#REF!)/2 -> #REF! | I27: =#REF!+#REF!+#REF!+#REF!+#REF! -> #REF! | J27: =#REF! -> #REF! | K27: =#REF!+#REF!+#REF!+#REF! -> #REF! | L27: =#REF! -> #REF! | M27: =SUM(I27:L27) -> #REF! | N27: =#REF!+#REF! -> #REF! | O27: =N27+M27/2 -> #REF!
A28: 22 | B28: 昆办 | C28: =D28+E28+F28 -> 0 | H28: =#REF!+#REF!+(#REF!-#REF!)/2 -> #REF!
B29: 合计 | C29: =D29+E29+F29 -> 0 | D29: =SUM(D7:D28) -> 0 | E29: =SUM(E7:E28) -> 0 | F29: =SUM(F7:F28) -> 0 | G29: =SUM(G7:G28) -> 0 | J29: 1480361
B32: 注：按民政局、公安局提供的2012年12月底止数据编制
I35: 1181604
I36: 375918
I37: 75600
I38: 167669
I39: 272000
I40: 183283
I41: 930560
I42: 46666
I43: =SUM(I35:I42) -> 3233300

Sheet 人员基本数据表
A1: 表三
A2: 湘乡市乡镇办2021年财政体制人员情况表
A3: 编制单位：湘乡市财政局预算股
A4: 单位 | B4: 行政人员 | D4: 公益性事业机构人员 | T4: 财政所人员 | V4: 非公益岗位事业人员 | AP4: 2013年以后分配的退伍军人 | AR4: 提前离岗人员 | AU4: 离休人员 | AV4: 其他人员
B5: 编制数 | C5: 实际数 | D5: 小计 | F5: 水利站 | H5: 林业站 | J5: 文化广电体育站 | L5: 综合行政执法大队 | N5: 综合服务中心 | P5: 退役军人服务站 | R5: 村级代理中心 | T5: 编制数 | U5: 实际数 | V5: 合计 | W5: 自收自支（合计） | X5: 原经管站 | Y5: 原计育办 | Z5: 原文化站 | AA5: 原广播站 | AB5: 原劳动管理站 | AC5: 原合医站 | AD5: 原林业站 | AG5: 原水管站 | AH5: 原农机站 | AI5: 原畜牧站 | AJ5: 原农技站 | AK5: 原安监站 | AL5: 原城管站 | AM5: 原规划站 | AN5: 原环保站 | AO5: 原企业办 | AP5: 分配的全额站办所 | AQ5: 分配的差额站办所 | AR5: 小计 | AS5: 原全额单位人员 | AT5: 原差额单位人员 | AV5: 小计 | AW5: 地下党员 | AX5: 遗属人员 | AY5: 精简人员 | AZ5: 工伤
D7: 编制数 | E7: 实际数 | F7: 编制数 | G7: 实际数 | H7: 编制数 | I7: 实际数 | J7: 编制数 | K7: 实际数 | L7: 编制数 | M7: 实际数 | N7: 编制数 | O7: 实际数 | P7: 编制数 | Q7: 实际数 | R7: 编制数 | S7: 实际数 | AD7: 小计 | AE7: 改革后人员 | AF7: 2012年新进人员
A8: 新湘路 | C8: 22 | D8: =+F8+H8+J8+L8+N8+P8+R8 -> 38 | E8: =G8+I8+K8+M8+O8+Q8+S8 -> 34 | L8: 10 | M8: 9 | N8: 26 | O8: 24 | P8: 2 | Q8: 1 | T8: 16 | U8: 14 | V8: =+W8+X8+Y8+Z8+AA8+AB8+AC8+AD8+AG8+AH8+AI8+AJ8+AK8+AL8+AM8+AN8+AO8 -> 21 | W8: =AO8 -> 0 | Y8: 7 | Z8: 1 | AB8: 1 | AC8: 1 | AD8: =AE8+AF8 -> 0 | AG8: 1 | AH8: 3 | AI8: 1 | AJ8: 1 | AL8: 1 | AN8: 4 | AP8: 22 | AR8: =AS8+AT8 -> 0 | AV8: =AW8+AX8+AY8+AZ8 -> 9 | AX8: 9
A9: 合计 | B9: =SUM(B8:B8) -> 0 | C9: =SUM(C8:C8) -> 22 | D9: =SUM(D8:D8) -> 38 | E9: =SUM(E8:E8) -> 34 | F9: =SUM(F8:F8) -> 0 | G9: =SUM(G8:G8) -> 0 | H9: =SUM(H8:H8) -> 0 | I9: =SUM(I8:I8) -> 0 | ... Q9: =SUM(Q8:Q8) -> 1 | T9: =SUM(T8:T8) -> 16 | U9: =SUM(U8:U8) -> 14 | V9: =SUM(V8:V8) -> 21 | W9: =AO9 -> 0 | X9: =SUM(X8:X8) -> 0 | Y9: =SUM(Y8:Y8) -> 7 | Z9: =SUM(Z8:Z8) -> 1 | AA9: =SUM(AA8:AA8) -> 0 | AB9: =SUM(AB8:AB8) -> 1 | AC9: =SUM(AC8:AC8) -> 1 | AD9: =SUM(AD8:AD8) -> 0 | AE9: =SUM(AE8:AE8) -> 0 | ... AZ9: =SUM(AZ8:AZ8) -> 0
E12: =C8+E8+U8+V8+AP8 -> 113

Sheet 基础数据计算表
A1: 表四
A2: 湘乡市乡镇办2021年财政体基础数据计算表
A3: 编制单位：湘乡市财政局预算股 | T3: 单位金额：元
A4: 单位 | B4: 基本公用经费 | D4: 年在职工资总额 | G4: 乡镇工作补贴 | H4: 公车补贴 | I4: 其他工资福利支出 | J4: 2.5%的福利费 | K4: 2%的工会经费 | L4: 年缴费基数总额 | O4: 社会保障 | U4: 住房公积金 | V4: 离休人员生活补贴 | W4: 遗属、落政、编外等
B5: 基本公用经费标准 | C5: 应安排金额 | D5: 全额 | E5: 差额 | L5: 全额 | M5: 差额 | O5: 合计 | P5: 养老保险 | Q5: 医疗保险 | R5: 失业保险 | S5: 生育保险 | T5: 工伤保险
E7: 改革前林业人员 | F7: 其他差额编制人员 | M7: 改革前林业人员 | N7: 其他差额编制人员
A8: 新湘路 | B8: 7000 | C8: =('人员工资数据表 '!C8+'人员工资数据表 '!AA8)*基础数据计算表!B8+'人员工资数据表 '!BN8*基础数据计算表!B8*0.8+'人员工资数据表 '!BV8*基础数据计算表!B8*0.6 -> 763000 | D8: =+'人员工资数据表 '!D8*13+'人员工资数据表 '!E8*12+'人员工资数据表 '!AB8*12+'人员工资数据表 '!AC8*12+1000*'人员工资数据表 '!AA8 -> 5992709 | E8: =+('人员工资数据表 '!BO8+'人员工资数据表 '!BP8)*12+1000*'人员工资数据表 '!BN8 -> 0 | F8: =+('人员工资数据表 '!BW8+'人员工资数据表 '!BX8)*12+1000*'人员工资数据表 '!BV8 -> 500224 | G8: =+('人员工资数据表 '!F8+'人员工资数据表 '!AD8)*12+'人员工资数据表 '!BQ8*12*0.8+'人员工资数据表 '!BY8*12*0.6 -> 0 | H8: =+'人员工资数据表 '!G8*12+'人员工资数据表 '!AE8*12+'人员工资数据表 '!BR8*12*0.8+'人员工资数据表 '!BZ8*12*0.6 -> 694008 | I8: ='人员工资数据表 '!H8*12+'人员工资数据表 '!AF8*12+'人员工资数据表 '!BS8*12*0.8+'人员工资数据表 '!CA8*0.6*12 -> 1308000 | J8: =(+D8*0.025+E8*0.025*0.8+F8*0.025*0.6)+G8*0.025 -> 157321.08 | K8: =(+D8*0.02+E8*0.02*0.8+F8*0.02*0.6)+G8*0.02 -> 125856.87 | L8: ='人员工资数据表 '!I8*12+'人员工资数据表 '!AG8*12 -> 5930160 | M8: ='人员工资数据表 '!BT8*12 -> 0 | N8: ='人员工资数据表 '!CB8*12 -> 490944 | O8: =P8+R8+S8+T8+Q8 -> 1630878.3 | P8: =L8*0.16+M8*0.16*0.8+N8*0.6*0.16 -> 995956.22 | Q8: =L8*0.08+M8*0.8*0.08+N8*0.6*0.08 -> 497978.11 | R8: =L8*0.007+M8*0.8*0.007+N8*0.6*0.007 -> 43573.085 | S8: =+L8*0.005+M8*0.005*0.8+N8*0.005*0.6 -> 31123.632 | T8: =L8*0.01+M8*0.01*0.8+N8*0.01*0.6 -> 62247.264 | U8: =(+D8*0.12+E8*0.12*0.8+F8*0.12*0.6)+(G8+H8+I8)*0.12 -> 995382.17 | V8: =+'人员工资数据表 '!BF8*12+'人员工资数据表 '!CH8*800 -> 36000 | W8: =+('人员工资数据表 '!CD8+'人员工资数据表 '!CE8)*12 -> 74520
A9: 合计 | C9: =('人员工资数据表 '!C9+'人员工资数据表 '!AA9)*基础数据计算表!B9+'人员工资数据表 '!BN9*基础数据计算表!B9*0.8+'人员工资数据表 '!BV9*基础数据计算表!B9*0.6 -> 0 | D9: =+'人员工资数据表 '!D9*13+'人员工资数据表 '!E9*12+'人员工资数据表 '!AB9*12+'人员工资数据表 '!AC9*12+1000*'人员工资数据表 '!AA9 -> 5992709 | E9: =+('人员工资数据表 '!BO9+'人员工资数据表 '!BP9)*12+1000*'人员工资数据表 '!BN9 -> 0 | F9: =+('人员工资数据表 '!BW9+'人员工资数据表 '!BX9)*12+1000*'人员工资数据表 '!BV9 -> 500224 | G9: =+('人员工资数据表 '!F9+'人员工资数据表 '!AD9)*12+'人员工资数据表 '!BQ9*12*0.8+'人员工资数据表 '!BY9*12*0.6 -> 0 | H9: =+'人员工资数据表 '!G9*12+'人员工资数据表 '!AE9*12+'人员工资数据表 '!BR9*12*0.8+'人员工资数据表 '!BZ9*12*0.6 -> 694008 | I9: ='人员工资数据表 '!H9*12+'人员工资数据表 '!AF9*12+'人员工资数据表 '!BS9*12*0.8+'人员工资数据表 '!CA9*0.6*12 -> 1308000 | J9: =(+D9*0.025+E9*0.025*0.8+F9*0.025*0.6)+G9*0.025 -> 157321.08 | K9: =(+D9*0.02+E9*0.02*0.8+F9*0.02*0.6)+G9*0.02 -> 125856.87 | L9: ='人员工资数据表 '!I9*12+'人员工资数据表 '!AG9*12 -> 5930160 | M9: ='人员工资数据表 '!BT9*12 -> 0 | N9: ='人员工资数据表 '!CB9*12 -> 490944 | O9: =P9+R9+S9+T9+Q9 -> 1630878.3 | P9: =L9*0.16+M9*0.16*0.8+N9*0.6*0.16 -> 995956.22 | Q9: =L9*0.08+M9*0.8*0.08+N9*0.6*0.08 -> 497978.11 | R9: =L9*0.007+M9*0.8*0.007+N9*0.6*0.007 -> 43573.085 | S9: =+L9*0.005+M9*0.005*0.8+N9*0.005*0.6 -> 31123.632 | T9: =L9*0.01+M9*0.01*0.8+N9*0.01*0.6 -> 62247.264 | U9: =(+D9*0.12+E9*0.12*0.8+F9*0.12*0.6)+(G9+H9+I9)*0.12 -> 995382.17 | V9: =+'人员工资数据表 '!BF9*12+'人员工资数据表 '!CH9*800 -> 0 | W9: =+('人员工资数据表 '!CD9+'人员工资数据表 '!CE9)*12 -> 74520

Sheet 体制经费测算
B1: 表二
B2: 湘乡市乡镇办2021年人员经费预算情况表
B3: 编制：湘乡市财政局预算股 | AF3: 单位金额：元
C4: 人员基本支出
C5: 人员基本支出小计 | D5: 工资福利支出 | Z5: 商品和服务支出 | AE5: 对个人和家庭的补助
D6: 工资福利支出小计 | E6: 基本工资 | K6: 地区津补贴（奖金、绩效工资） | Q6: 乡镇工作补贴 | R6: 其他工资福利支出 | S6: 社会保障缴费 | Y6: 住房公积金 | Z6: 商品和服务支出小计 | AA6: 公用经费 | AB6: 公车补贴 | AC6: 工会费 | AD6: 福利费 | AE6: 小计 | AF6: 离休人员生活补贴 | AG6: 遗属、落政、编外等
E7: 小 计 | F7: 行政 | G7: 事业公益性岗位 | H7: 事业非公益性岗位 | K7: 小 计 | L7: 行政 | M7: 事业公益性岗位 | N7: 事业非公益性岗位 | S7: 小 计 | T7: 养老保险 | U7: 医疗保险 | V7: 失业保险 | W7: 工伤保险 | X7: 生育保险
H8: 原全额 | I8: 原差额 | J8: 原林业 | N8: 原全额 | O8: 原差额 | P8: 原林业
B9: 新办 | C9: =D9+Z9+AE9 -> 12077810 | D9: =+E9+K9+Q9+R9+Y9+S9 -> 10227104 | E9: =+F9+G9+H9+I9+J9 -> 3951764.2 | F9: =+'人员工资数据表 '!D8*13 -> 1501825 | G9: =+('人员工资数据表 '!AJ8+'人员工资数据表 '!AZ8)*12 -> 1928364 | H9: =+'人员工资数据表 '!AR8*12 -> 342864 | I9: =+'人员工资数据表 '!BW8*12*0.6 -> 178711.2 | J9: =+'人员工资数据表 '!BO8*12*0.8 -> 0 | K9: =+L9+M9+N9+O9+P9 -> 2341079.2 | L9: =+'人员工资数据表 '!E8*12 -> 760560 | M9: =+('人员工资数据表 '!AK8+'人员工资数据表 '!BA8)*12+1000*('人员工资数据表 '!AI8+'人员工资数据表 '!AY8) -> 1228916 | N9: =+'人员工资数据表 '!AS8*12+1000*'人员工资数据表 '!AQ8 -> 230180 | O9: =+'人员工资数据表 '!BX8*12*0.6+1000*'人员工资数据表 '!BV8*0.6 -> 121423.2 | P9: =+'人员工资数据表 '!BP8*12*0.8+1000*'人员工资数据表 '!BN8*0.8 -> 0 | Q9: =基础数据计算表!G8 -> 0 | R9: =基础数据计算表!I8 -> 1308000 | S9: =+T9+U9+V9+W9+X9 -> 1630878.3 | T9: =+基础数据计算表!P8 -> 995956.22 | U9: =+基础数据计算表!Q8 -> 497978.11 | V9: =+基础数据计算表!R8 -> 43573.085 | W9: =+基础数据计算表!T8 -> 62247.264 | X9: =+基础数据计算表!S8 -> 31123.632 | Y9: =+基础数据计算表!U8 -> 995382.17 | Z9: =AA9+AD9+AB9+AC9 -> 1740186 | AA9: =+基础数据计算表!C8 -> 763000 | AB9: =基础数据计算表!H8 -> 694008 | AC9: =+基础数据计算表!K8 -> 125856.87 | AD9: =+基础数据计算表!J8 -> 157321.08 | AE9: =AF9+AG9 -> 110520 | AF9: =+基础数据计算表!V8 -> 36000 | AG9: =+基础数据计算表!W8 -> 74520
B10: 2021年合计 | C10: =SUM(C9:C9) -> 12077810 | D10: =SUM(D9:D9) -> 10227104 | E10: =SUM(E9:E9) -> 3951764.2 | F10: =SUM(F9:F9) -> 1501825 | G10: =SUM(G9:G9) -> 1928364 | H10: =SUM(H9:H9) -> 342864 | I10: =SUM(I9:I9) -> 178711.2 | J10: =SUM(J9:J9) -> 0 | ... AG10: =SUM(AG9:AG9) -> 74520
