Workbook
Name 录入表: #REF!
Name 录入表: #REF!
Name 录入表: #REF!

Sheet 封面
A5: 湘乡市2019年市直行政事业单位部门预算报表
D7: 填报单位： | G7: 湘乡市司法局
D9: 填报单位签章: | G9: 湘乡市司法局
D11: 填报人员： | G11: 周晁式
D13: 联系方式： | G13: 13875210509

Sheet 填报说明
A1: 湘乡市2019年市直行政事业单位部门预算 二上报表填报说明
A2: 1、二上报表设置了公式和表格保护，表三GH列“勾稽检查”显示“正确”说明表格之间逻辑关系正确，“错误”说明报表之间存在问题，需要进一步核查；
A3: 2、“八、社会保障和就业支出”填财政下达的控制数中养老保险、工伤保险、失业保险和对个人和家庭补助内的离退休人员生活补贴、遗属、落政、编外等；
A4: 3、“九、卫生健康支出”财政下达控制数中医疗保险等；
A5: 4、“十九、住房保障支出”填财政下达的控制数中的住房公积金等；
A6: 5、如果报表需要插行请在中间进行；
A7: 6、表十四《部门整体支出绩效目标申报表》表十五《项目支出绩效目标申报表》纸质档加盖行政公章，请于2018年11月29日前报绩效管理股陈科处，电子档发至邮箱370221890@qq.com；
A8: 7、其余表格每页纸质档加盖行政公章，请于2018年11月29日前报预算股朱灵处，电子档发至邮箱xxczysg@163.com；
A9: 8、《湘乡市2019年部门预算管理系统》操作有问题的情况请联系工程师李工13574884820。

Sheet 基本数据
A1: 表二
A2: 2019年部门预算基本数据表
A3: 单位名称 | B3: 湘乡市司法局
A4: 项目内容 | B4: 基本数据 | C4: 备注
A5: 单位月缴费基数 | B5: 398500
A6: 公用经费执行标准 | B6: 7200
A7: 公用经费执行人数 | B7: 93
A8: 均衡性公用经费 | C8: 按年5万、4万元或0填列
A9: 公务员及参公管理事业人员月基本工资（元） | B9: 219632 | C9: 按月金额填列
A10: 公务员及参公管理事业人员月津贴、补贴（元） | B10: 148757 | C10: 按月金额填列
A11: 警衔津贴（元） | C11: 按月金额填列
A12: 特殊岗位津贴（元） | B12: 83580 | C12: 按月金额填列
A13: 交通补贴（元） | B13: 44500 | C13: 按月金额填列
A14: 乡镇工作补贴（元） | B14: 10730 | C14: 按月金额填列
A15: 事业绩效工资人员月基本工资（元） | B15: 23872 | C15: 按月金额填列
A16: 事业人员月绩效工资（基础性绩效工资和奖励性绩效工资）（元） | B16: 18192 | C16: 按月金额填列
A17: 离休人员月月生活补贴（元） | C17: 按月金额填列
A18: 生活长期完全不能自理的离退休干部护理费标准每人每月2500元 | C18: 按月金额填列
A19: 抗日战争时期参加革命工作的离休干部的遗孀生活补助每人每月1000元，配偶每人每月680元， | C19: 按月金额填列
A20: 解放战争时期参加革命工作的离休干部的遗孀生活补助费每人每月900元，配偶每人每月630元安排。 | C20: 按月金额填列
A21: 对中华人民共和国成立前参加革命工作，中华人民共和国成立后经组织批准退职的干部按本人参加革命工作的不同时期计发生活补助。解放战争时期的每人每月900元安排 | C21: 按月金额填列
A22: 厅（师）局级离休干部（80元/月） | C22: 按月金额填列
A23: 副处（县）级离休干部（52元/月） | B23: 52 | C23: 按月金额填列
A24: 一般离休干部（45元/月） | C24: 按月金额填列
A25: 月遗属补助数 | B25: 1580 | C25: 按月金额填列
A26: 月其他补助数 | C26: 按月金额填列
A27: 是否缴纳工伤保险 | C27: 填是或否
A28: 是否缴纳失业保险 | C28: 填是或否

Sheet 1部门收支预算总表
A1: 表一
A2: 2019年部 门 收 支 预 算 总 表
A3: 编制单位：湘乡市司法局 | F3: 金额单位：元
A4: 收 入 | C4: 支 出 | G4: 勾稽检查
A5: 项 目 | B5: 2019年预算数 | C5: 项 目（按支出功能科目分类） | D5: 2019年预算数 | E5: 项目（按经济科目分类） | F5: 金额 | G5: 内容 | H5: 逻辑关系
A6: 一、公共财政预算拨款 | B6: =B7+B8 -> 12565571 | C6: 一、一般公共服务支出 | E6: 一、基本支出 | F6: =F7+F8+F9 -> 9845571 | G6: 收入1（表一B31、表二F6） | H6: =IF(B31='2部门收入总表'!F6,"正确","错误") -> 正确
A7: 1.经费拨款 | B7: 12565571 | C7: 二、外交支出 | E7: 1、工资福利支出 | F7: 8279437 | G7: 收入2（表一B8+B15+B16+B19、表十一C30） | H7: =IF(B8+B15+B16+B19='11非税收入表 '!C30,"正确","错误") -> 正确
A8: 2.纳入公共财政预算管理的非税收入安排的资金 | B8: =SUM(B9:B14) -> 0 | C8: 三、国防支出 | E8: 2、商品和服务支出 | F8: 1546550
A9: （1）专项收入安排的资金 | C9: 四、公共安全支出 | D9: 10554338 | E9: 3、对个人和家庭补助支出 | F9: 19584
A10: （2）行政事业性收费收入安排的资金 | C10: 五、教育支出 | E10: 二、项目支出 | F10: 2720000 | G10: 支出3（表一D31=表三F6） | H10: =IF(D31='3部门支出总表'!F6,"正确","错误") -> 正确
A11: （3）罚没收入安排的资金 | C11: 六、科学技术支出 | E11: 三、社会保障缴费 | G11: 支出4（表一B6+B15=表四B31） | H11: =IF(B6+B15='4财政拨款收支总表 '!B31,"正确","错误") -> 正确
A12: （4）国有资本经营收入安排的资金 | C12: 七、文化旅游体育与传媒支出 | E12: 四、事业单位经营支出 | G12: 支出5（表一B6+B15=表四D31） | H12: =IF(B6+B15='4财政拨款收支总表 '!D31,"正确","错误") -> 正确
A13: （5）国有资源（资产）有偿使用收入安排的资金 | C13: 八、社会保障和就业支出 | D13: 975984 | E13: 五、对下级单位补助支出 | G13: 支出6（表一B6+B16+B19+B23+B24=表五D70） | H13: =IF(B6+B15+B16+B19+B23+B24='5一般公共预算支出表（政府预算支出经济分类）'!D70,"正确","错误") -> 正确
A14: （6）其他收入安排的资金 | C14: 九、卫生健康支出 | D14: 406470 | G14: 支出7（表一B6+B16+B19+B23+B24=表六D112） | H14: =IF(B6+B15+B16+B19+B23+B24='6一般公共预算基本支出表 (部门预算支出经济分类)'!D112,"正确","错误") -> 正确
A15: 二、政府性基金拨款 | C15: 十、节能环保支出 | G15: 支出8（表一B15=表七F6） | H15: =IF(B15='7政府性基金支出表'!F6,"正确","错误") -> 正确
A16: 三、纳入财政专户管理的收入安排的资金 | B16: =B17+B18 -> 0 | C16: 十一、城乡社区支出 | G16: 支出9（表一F6=表三G6） | H16: =IF(F6='3部门支出总表'!G6,"正确","错误") -> 正确
A17: 1.教育收费收入安排的资金 | C17: 十二、农林水支出 | G17: 支出10（表一F10=表三H6） | H17: =IF(F10='3部门支出总表'!H6,"正确","错误") -> 正确
A18: 2.其他收入安排的资金 | C18: 十三、交通运输支出 | G18: 支出11（表一F6=表五E70+表七G6） | H18: =IF(F6='5一般公共预算支出表（政府预算支出经济分类）'!E70+'7政府性基金支出表'!G6,"正确","错误") -> 正确
A19: 四、未纳入财政专户管理的收入安排的资金 | B19: =B20+B21+B22 -> 0 | C19: 十四、资源勘探信息等支出 | G19: 支出12（表一F6=表六E112+表七G6） | H19: =IF(F6='6一般公共预算基本支出表 (部门预算支出经济分类)'!E112+'7政府性基金支出表'!G6,"正确","错误") -> 正确
A20: 1.事业收入安排的资金 | C20: 十五、商业服务业等支出 | G20: 支出13（表一F10=表五F70+表七K6） | H20: =IF(F10='5一般公共预算支出表（政府预算支出经济分类）'!F70+'7政府性基金支出表'!K6,"正确","错误") -> 正确
A21: 2.经营收入安排的资金 | C21: 十六、金融支出 | G21: 支出14（表一F10=表六F112+表七K6） | H21: =IF(F10='6一般公共预算基本支出表 (部门预算支出经济分类)'!F112+'7政府性基金支出表'!K6,"正确","错误") -> 正确
A22: 3.其他收入安排的资金 | C22: 十七、援助其他地区支出 | G22: 支出15（表一F10=表九F6） | H22: =IF(F10='9项目支出明细表'!F6,"正确","错误") -> 正确
A23: 五、上级补助收入 | C23: 十八、自然资源海洋气象等支出 | G23: 收支16（表一B31=D31） | H23: =IF(B31=D31,"正确","错误") -> 正确
A24: 六、附属单位缴款 | C24: 十九、住房保障支出 | D24: 628779 | G24: 收支17（表一B31=F31） | H24: =IF(B31=F31,"正确","错误") -> 正确
C25: 二十、粮油物资储备支出 | G25: 收支18（表一B33=D33） | H25: =IF(B33=D33,"正确","错误") -> 正确
C26: 二十一、灾害防治及应急管理支出 | G26: 收支19（表一B33=F33） | H26: =IF(B33=F33,"正确","错误") -> 正确
C27: 二十二、预备费 | G27: 非税20（表十一C30=表十二B30） | H27: =IF('11非税收入表 '!C30='12非税收入安排的支出表'!B30,"正确","错误") -> 正确
C28: 二十三、国债还本付息支出
C29: 二十四、其他支出
C30: 二十五、转移性支出
A31: 本 年 收 入 合 计 | B31: =B24+B23+B19+B16+B15+B6 -> 12565571 | C31: 本 年 支 出 合 计 | D31: =SUM(D6:D30) -> 12565571 | F31: =F6+F10+F11+F12+F13 -> 12565571
A32: 上年结转 | C32: 结转下年
A33: 收 入 总 计 | B33: =B32+B31 -> 12565571 | C33: 支 出 总 计 | D33: =D32+D31 -> 12565571 | F33: =F31+F32 -> 12565571

Sheet 2部门收入总表
A1: 表二
A2: 2019年部门收入总表
A3: 单位名称：湘乡市司法局 | L3: 金额单位：元
A4: 科目编码 | D4: 单位名称(功能分类科目名称) | E4: 项目名称 | F4: 总计 | G4: 一般公共预算拨款收入 | H4: 政府性基金拨款收入 | I4: 纳入专户管理的非税收入拨款收入 | J4: 未纳入专户管理的非税收入拨款收入 | K4: 上级补助收入 | L4: 附属单位缴款 | M4: 备注
A5: 类 | B5: 款 | C5: 项
A6: ** | B6: ** | C6: ** | D6: ** | E6: ** | F6: =G6+H6+I6+J6+K6+L6 -> 12565571 | G6: =SUM(G7:G28) -> 12565571 | H6: =SUM(H7:H28) -> 0 | I6: =SUM(I7:I28) -> 0 | J6: =SUM(J7:J28) -> 0 | K6: =SUM(K7:K28) -> 0 | L6: =SUM(L7:L28) -> 0
A7: 204 | B7: 06 | C7: 01 | D7: 行政运行 | E7: 基本工资、津、奖金、绩效工资 | F7: =G7+H7+I7+J7+K7+L7 -> 6287788 | G7: 6287788
A8: 208 | B8: 08 | C8: 01 | D8: 死亡抚恤 | E8: 遗属、落政、编外等 | F8: =G8+H8+I8+J8+K8+L8 -> 19584 | G8: 19584
A9: 210 | B9: 11 | C9: 01 | D9: 行政单位医疗 | E9: 医疗保险 | F9: =#REF!+H9+I9+J9+K9+L9 -> #REF! | G9: 406470
A10: 221 | B10: 02 | C10: 01 | D10: 养老保险 | E10: 养老保险 | G10: 956400
A11: 208 | B11: 05 | C11: 05 | D11: 住房公积金 | E11: 住房公积金 | G11: 628779
A12: 221 | B12: 02 | C12: 01 | D12: 一般行政管理事务 | E12: 商品服务支出 | F12: =G12+H12+I12+J12+K12+L12 -> 1546550 | G12: 1546550
A13: 204 | B13: 06 | C13: 05 | D13: 普法工作 | E13: 普法工作 | F13: =G13+H13+I13+J13+K13+L13 -> 460000 | G13: 460000
A14: 204 | B14: 06 | C14: 04 | D14: 安置帮教 | E14: 安置帮教 | F14: =G14+H14+I14+J14+K14+L14 -> 120000 | G14: 120000
A15: 204 | B15: 06 | C15: 06 | D15: 律师管理 | E15: 律师管理 | F15: =G15+H15+I15+J15+K15+L15 -> 50000 | G15: 50000
A16: 204 | B16: 06 | C16: 07 | D16: 法律援助 | E16: 法律援助 | F16: =G16+H16+I16+J16+K16+L16 -> 200000 | G16: 200000
A17: 204 | B17: 06 | C17: 04 | D17: 社区矫正 | E17: 社区矫正 | F17: =G17+H17+I17+J17+K17+L17 -> 510000 | G17: 510000
A18: 204 | B18: 06 | C18: 04 | D18: 医患调解 | E18: 医患调解 | F18: =G18+H18+I18+J18+K18+L18 -> 200000 | G18: 200000
A19: 204 | B19: 06 | C19: 04 | D19: 道路调解 | E19: 道路调解 | F19: =G19+H19+I19+J19+K19+L19 -> 100000 | G19: 100000
A20: 204 | B20: 06 | C20: 04 | D20: 人民调解 | E20: 人民调解 | F20: =G20+H20+I20+J20+K20+L20 -> 400000 | G20: 400000
A21: 204 | B21: 06 | C21: 05 | D21: 法治视点栏目 | E21: 法治视点栏目 | F21: =G21+H21+I21+J21+K21+L21 -> 100000 | G21: 100000
A22: 204 | B22: 06 | C22: 06 | D22: 法律顾问经费 | E22: 法律顾问经费 | F22: =G22+H22+I22+J22+K22+L22 -> 100000 | G22: 100000
A23: 204 | B23: 06 | C23: 04 | D23: 司法业务经费 | E23: 司法业务经费 | F23: =G23+H23+I23+J23+K23+L23 -> 480000 | G23: 480000
F24: =G24+H24+I24+J24+K24+L24 -> 0
F25: =G25+H25+I25+J25+K25+L25 -> 0
F26: =G26+H26+I26+J26+K26+L26 -> 0
F27: =G27+H27+I27+J27+K27+L27 -> 0
F28: =G28+H28+I28+J28+K28+L28 -> 0

Sheet 3部门支出总表
A1: 表三
A2: 2019年部门支出总表
A3: 单位名称：湘乡市司法局 | J3: 金额单位：元
A4: 科目编码 | D4: 单位名称(功能分类科目名称) | E4: 项目名称 | F4: 总计 | G4: 基本支出 | H4: 项目支出 | I4: 上缴上级支出 | J4: 事业单位经营支出 | K4: 对下级单位补助支出
A5: 类 | B5: 款 | C5: 项
A6: ** | B6: ** | C6: ** | D6: ** | E6: 合计 | F6: =G6+H6+I6+J6+K6 -> 12565571 | G6: =SUM(G7:G23) -> 9845571 | H6: =SUM(H7:H23) -> 2720000 | I6: =SUM(I7:I23) -> 0 | J6: =SUM(J7:J23) -> 0 | K6: =SUM(K7:K23) -> 0
A7: 204 | B7: 06 | C7: 01 | D7: 行政运行 | E7: 基本工资、津、奖金、绩效工资 | F7: =G7+H7+I7+J7+K7+L7 -> 6287788 | G7: 6287788
A8: 208 | B8: 08 | C8: 01 | D8: 死亡抚恤 | E8: 遗属、落政、编外等 | F8: =G8+H8+I8+J8+K8+L8 -> 19584 | G8: 19584
A9: 210 | B9: 11 | C9: 01 | D9: 行政单位医疗 | E9: 医疗保险 | F9: 406470 | G9: 406470
A10: 221 | B10: 02 | C10: 01 | D10: 养老保险 | E10: 养老保险 | F10: 956400 | G10: 956400
A11: 208 | B11: 05 | C11: 05 | D11: 住房公积金 | E11: 住房公积金 | F11: 628779 | G11: 628779
A12: 221 | B12: 02 | C12: 01 | D12: 一般行政管理事务 | E12: 商品服务支出 | F12: 1546550 | G12: 1546550
A13: 204 | B13: 06 | C13: 05 | D13: 普法工作 | E13: 普法工作 | F13: 460000 | H13: 460000
A14: 204 | B14: 06 | C14: 04 | D14: 安置帮教 | E14: 安置帮教 | F14: 120000 | H14: 120000
A15: 204 | B15: 06 | C15: 06 | D15: 律师管理 | E15: 律师管理 | F15: 50000 | H15: 50000
A16: 204 | B16: 06 | C16: 07 | D16: 法律援助 | E16: 法律援助 | F16: 200000 | H16: 200000
A17: 204 | B17: 06 | C17: 04 | D17: 社区矫正 | E17: 社区矫正 | F17: 510000 | H17: 510000
A18: 204 | B18: 06 | C18: 04 | D18: 医患调解 | E18: 医患调解 | F18: 200000 | H18: 200000
A19: 204 | B19: 06 | C19: 04 | D19: 道路调解 | E19: 道路调解 | F19: 100000 | H19: 100000
A20: 204 | B20: 06 | C20: 04 | D20: 人民调解 | E20: 人民调解 | F20: 400000 | H20: 400000
A21: 204 | B21: 06 | C21: 05 | D21: 法治视点栏目 | E21: 法治视点栏目 | F21: 100000 | H21: 100000
A22: 204 | B22: 06 | C22: 06 | D22: 法律顾问经费 | E22: 法律顾问经费 | F22: 100000 | H22: 100000
A23: 204 | B23: 06 | C23: 04 | D23: 司法业务经费 | E23: 司法业务经费 | F23: 480000 | H23: 480000

Sheet 4财政拨款收支总表 
A1: 表四
A2: 2019年财政拨款收支总表
A3: 单位名称：湘乡市司法局 | F3: 金额单位:元
A4: 收 入 | C4: 支 出
A5: 项 目 | B5: 本年预算 | C5: 项 目 | D5: 合计 | E5: 一般公共预算财政拨款 | F5: 政府性基金预算财政拨款
A6: 一、本年收入 | B6: =B7+B8 -> 12565571 | C6: 一、一般公共服务支出 | D6: =E6+F6 -> 11202701 | E6: 11202701 | F6: 0
A7: （一）一般公共预算拨款 | B7: 12565571 | C7: 二、外交支出 | D7: =E7+F7 -> 0 | E7: 0 | F7: 0
A8: （二）政府性基金预算拨款 | C8: 三、国防支出 | D8: =E8+F8 -> 0 | F8: 0
C9: 四、公共安全支出 | D9: =E9+F9 -> 0 | F9: 0
A10: 二、上年结转 | B10: =B12+B11 -> 0 | C10: 五、教育支出 | D10: =E10+F10 -> 0 | F10: 0
A11: （一）一般公共预算拨款 | C11: 六、科学技术支出 | D11: =E11+F11 -> 0 | F11: 0
A12: （二）政府性基金预算拨款 | C12: 七、文化旅游体育与传媒支出 | D12: =E12+F12 -> 0 | F12: 0
C13: 八、社会保障和就业支出 | D13: =E13+F13 -> 956400 | E13: 956400 | F13: 0
C14: 九、卫生健康支出 | D14: =E14+F14 -> 406470 | E14: 406470 | F14: 0
C15: 十、节能环保支出 | D15: =E15+F15 -> 0 | F15: 0
C16: 十一、城乡社区支出 | D16: =E16+F16 -> 0 | F16: 0
C17: 十二、农林水支出 | D17: =E17+F17 -> 0 | F17: 0
C18: 十三、交通运输支出 | D18: =E18+F18 -> 0 | F18: 0
C19: 十四、资源勘探信息等支出 | D19: =E19+F19 -> 0 | F19: 0
C20: 十五、商业服务业等支出 | D20: =E20+F20 -> 0 | F20: 0
C21: 十六、金融支出 | D21: =E21+F21 -> 0 | F21: 0
C22: 十七、援助其他地区支出 | D22: =E22+F22 -> 0 | F22: 0
C23: 十八、自然资源海洋气象等支出 | D23: =E23+F23 -> 0 | F23: 0
C24: 十九、住房保障支出 | D24: =E24+F24 -> 0 | F24: 0
C25: 二十、粮油物资储备支出 | D25: =E25+F25 -> 0 | F25: 0
C26: 二十一、灾害防治及应急管理支出 | D26: =E26+F26 -> 0 | F26: 0
C27: 二十二、预备费 | D27: =E27+F27 -> 0 | E27: 0 | F27: 0
C28: 二十三、国债还本付息支出 | D28: =E28+F28 -> 0
C29: 二十四、其他支出 | D29: =E29+F29 -> 0
C30: 二十五、转移性支出
A31: 本 年 收 入 合 计 | B31: =B6+B10 -> 12565571 | C31: 本 年 支 出 合 计 | D31: =E31+F31 -> 12565571 | E31: =SUM(E6:E29) -> 12565571 | F31: =SUM(F6:F29) -> 0

Sheet 5一般公共预算支出表（政府预算支出经济分类）
A1: 表五
A2: 2019年预算支出表(政府预算支出经济分类）
A3: 编制单位：湘乡市司法局 | G3: 金额单位：元
A4: 科目编码 | C4: 科目名称 | D4: 合计 | E4: 基本支出 | F4: 项目支出 | G4: 备注
A5: 类 | B5: 款
A6: 501 | C6: 机关工资福利支出 | D6: =SUM(D7:D10) -> 8254669 | E6: =SUM(E7:E10) -> 7774669 | F6: =SUM(F7:F10) -> 480000
B7: 01 | C7: 工资奖金津补贴 | D7: =E7+F7 -> 5783020 | E7: 5783020
B8: 02 | C8: 社会保障缴费 | D8: =E8+F8 -> 1362870 | E8: 1362870
B9: 03 | C9: 住房公积金 | D9: =E9+F9 -> 628779 | E9: 628779
B10: 99 | C10: 其他工资福利支出 | D10: =E10+F10 -> 480000 | F10: 480000
A11: 502 | C11: 机关商品和服务支出 | D11: =SUM(D12:D21) -> 3086550 | E11: =SUM(E12:E21) -> 1546550 | F11: =SUM(F12:F21) -> 1540000
B12: 01 | C12: 办公经费 | D12: =E12+F12 -> 1049562 | E12: 799562 | F12: 250000
B13: 02 | C13: 会议费 | D13: =E13+F13 -> 90000 | E13: 40000 | F13: 50000
B14: 03 | C14: 培训费 | D14: =E14+F14 -> 69600 | E14: 29600 | F14: 40000
B15: 04 | C15: 专用材料购置费 | D15: =E15+F15 -> 410000 | F15: 410000
B16: 05 | C16: 委托业务费 | D16: =E16+F16 -> 440000 | E16: 90000 | F16: 350000
B17: 06 | C17: 公务接待费 | D17: =E17+F17 -> 100000 | E17: 100000
B18: 07 | C18: 因公出国（境）费用 | D18: =E18+F18 -> 0
B19: 08 | C19: 公务用车运行维护费 | D19: =E19+F19 -> 240000 | E19: 240000
B20: 09 | C20: 维修（护）费 | D20: =E20+F20 -> 180000 | E20: 120000 | F20: 60000
B21: 99 | C21: 其他商品和服务支出 | D21: =E21+F21 -> 507388 | E21: 127388 | F21: 380000 | G21: 党建经费125756元
A22: 503 | C22: 机关资本性支出（一） | D22: =SUM(D23:D29) -> 700000 | E22: =SUM(E23:E29) -> 0 | F22: =SUM(F23:F29) -> 700000
B23: 01 | C23: 房屋建筑物构建 | D23: =E23+F23 -> 0
B24: 02 | C24: 基础设施建设 | D24: =E24+F24 -> 0
B25: 03 | C25: 公务用车购置 | D25: =E25+F25 -> 0
B26: 05 | C26: 土地征迁补尝和安置支出 | D26: =E26+F26 -> 0
B27: 06 | C27: 设备购置 | D27: =E27+F27 -> 700000 | F27: 700000
B28: 07 | C28: 大型修缮 | D28: =E28+F28 -> 0
B29: 99 | C29: 其他资本性支出 | D29: =E29+F29 -> 0
A30: 504 | C30: 机关资本性支出（二） | D30: =SUM(D31:D36) -> 0 | E30: =SUM(E31:E36) -> 0 | F30: =SUM(F31:F36) -> 0
B31: 01 | C31: 房屋建筑物构建 | D31: =E31+F31 -> 0
B32: 02 | C32: 基础设施建设 | D32: =E32+F32 -> 0
B33: 03 | C33: 公务用车购置 | D33: =E33+F33 -> 0
B34: 04 | C34: 设备购置 | D34: =E34+F34 -> 0
B35: 05 | C35: 大型修缮 | D35: =E35+F35 -> 0
B36: 99 | C36: 其他资本性支出 | D36: =E36+F36 -> 0
A37: 505 | C37: 对事业单位经常性补助 | D37: =SUM(D38:D40) -> 504768 | E37: =SUM(E38:E40) -> 504768 | F37: =SUM(F38:F40) -> 0
B38: 01 | C38: 工资福利支出 | D38: =E38+F38 -> 504768 | E38: 504768
B39: 02 | C39: 商品和服务支出 | D39: =E39+F39 -> 0
B40: 99 | C40: 其他对事业单位补助 | D40: =E40+F40 -> 0
...

Sheet 6一般公共预算基本支出表 (部门预算支出经济分类)
A1: 表六
A2: 2019年预算支出表(部门预算支出经济分类）
A3: 编制单位：湘乡市司法局 | G3: 金额单位：元
A4: 科目编码 | C4: 科目名称 | D4: 合计 | E4: 基本支出 | F4: 项目支出 | G4: 备注
A5: 类 | B5: 款
A6: 301 | C6: 工资福 利支出 | D6: =SUM(D7:D19) -> 8759437 | E6: =SUM(E7:E19) -> 8279437 | F6: =SUM(F7:F19) -> 480000
B7: 01 | C7: 基本工资 | D7: =E7+F7 -> 2922048 | E7: 2922048
B8: 02 | C8: 津贴补贴 | D8: =E8+F8 -> 2916804 | E8: 2916804
B9: 03 | C9: 奖金 | D9: =E9+F9 -> 219632 | E9: 219632
B10: 06 | C10: 伙食补助费 | D10: =E10+F10 -> 0
B11: 07 | C11: 绩效工资 | D11: =E11+F11 -> 229304 | E11: 229304
B12: 08 | C12: 机关事业单位基本养老保险缴费 | D12: =E12+F12 -> 956400 | E12: 956400
B13: 09 | C13: 职业年金缴费 | D13: =E13+F13 -> 0
B14: 10 | C14: 职工基本医疗保险缴费 | D14: =E14+F14 -> 406470 | E14: 406470
B15: 11 | C15: 公务员医疗补助缴费 | D15: =E15+F15 -> 0
B16: 12 | C16: 其他社会保障缴费 | D16: =E16+F16 -> 0
B17: 13 | C17: 住房公积金 | D17: =E17+F17 -> 628779 | E17: 628779
B18: 14 | C18: 医疗费 | D18: =E18+F18 -> 0
B19: 99 | C19: 其他工资福利支出 | D19: =E19+F19 -> 480000 | F19: 480000
A20: 302 | C20: 商 品 和 服务支 出 | D20: =SUM(D21:D47) -> 2676550 | E20: =SUM(E21:E47) -> 1546550 | F20: =SUM(F21:F47) -> 1130000
B21: 01 | C21: 办公费 | D21: =E21+F21 -> 455562 | E21: 205562 | F21: 250000
B22: 02 | C22: 印刷费 | D22: =E22+F22 -> 0
B23: 03 | C23: 咨询费 | D23: =E23+F23 -> 0
B24: 04 | C24: 手续费 | D24: =E24+F24 -> 0
B25: 05 | C25: 水费 | D25: =E25+F25 -> 0
B26: 06 | C26: 电费 | D26: =E26+F26 -> 0
B27: 07 | C27: 邮电费 | D27: =E27+F27 -> 0
B28: 08 | C28: 取暖费 | D28: =E28+F28 -> 0
B29: 09 | C29: 物业管理费 | D29: =E29+F29 -> 0
B30: 11 | C30: 差旅费 | D30: =E30+F30 -> 0
B31: 12 | C31: 因公出国（境）费用 | D31: =E31+F31 -> 0
B32: 13 | C32: 维修(护) 费 | D32: =E32+F32 -> 180000 | E32: 120000 | F32: 60000
B33: 14 | C33: 租赁费 | D33: =E33+F33 -> 0
B34: 15 | C34: 会议费 | D34: =E34+F34 -> 90000 | E34: 40000 | F34: 50000
B35: 16 | C35: 培训费 | D35: =E35+F35 -> 69600 | E35: 29600 | F35: 40000
B36: 17 | C36: 公务接待费 | D36: =E36+F36 -> 100000 | E36: 100000
B37: 18 | C37: 专用材料费 | D37: =E37+F37 -> 0
B38: 24 | C38: 被装购置费 | D38: =E38+F38 -> 0
B39: 25 | C39: 专用燃料费 | D39: =E39+F39 -> 0
B40: 26 | C40: 劳务费 | D40: =E40+F40 -> 0
...

Sheet 7政府性基金支出表
A1: 表七
A2: 2019年部门政府性基金预算支出表
A3: 单位名称：湘乡市司法局 | M3: 金额单位：元
A4: 科目编码 | D4: 单位名称(功能分类科目名称) | E4: 项目名称 | F4: 总计 | G4: 基本支出 | K4: 项目支出
A5: 类 | B5: 款 | C5: 项 | G5: 合计 | H5: 工资福利支出 | I5: 商品和服务支出 | J5: 对个人和家庭的补助 | K5: 合计 | L5: 业务性专项 | M5: 项目性专项
A6: ** | B6: ** | C6: ** | D6: ** | E6: 合计 | F6: =G6+K6 -> 0 | G6: =H6+I6+J6 -> 0 | H6: =SUM(H7:H15) -> 0 | I6: =SUM(I7:I15) -> 0 | J6: =SUM(J7:J15) -> 0 | K6: =L6+M6 -> 0 | L6: =SUM(L7:L15) -> 0 | M6: =SUM(M7:M15) -> 0
F7: =G7+K7 -> 0 | G7: =H7+I7+J7 -> 0 | K7: =L7+M7 -> 0
F8: =G8+K8 -> 0 | G8: =H8+I8+J8 -> 0 | K8: =L8+M8 -> 0
F9: =G9+K9 -> 0 | G9: =H9+I9+J9 -> 0 | K9: =L9+M9 -> 0
D10: 此表无数据 | F10: =G10+K10 -> 0 | G10: =H10+I10+J10 -> 0 | H10: 0 | K10: =L10+M10 -> 0 | L10: 0
F11: =G11+K11 -> 0 | G11: =H11+I11+J11 -> 0 | K11: =L11+M11 -> 0
F12: =G12+K12 -> 0 | G12: =H12+I12+J12 -> 0 | K12: =L12+M12 -> 0
F13: =G13+K13 -> 0 | G13: =H13+I13+J13 -> 0 | K13: =L13+M13 -> 0
F14: =G14+K14 -> 0 | G14: =H14+I14+J14 -> 0 | K14: =L14+M14 -> 0
F15: =G15+K15 -> 0 | G15: =H15+I15+J15 -> 0 | K15: =L15+M15 -> 0

Sheet 8“三公”经费预算表
A1: 表八
A2: 2019年公共财政拨款“三公”经费及会议费预算表
A3: 编制单位：湘乡市司法局 | G3: 金额 单位：元
A4: 项目 | B4: 2018年预算数 | E4: 2019年预算数
B5: 合计 | C5: 基本支出 | D5: 项目支出 | E5: 合计 | F5: 基本支出 | G5: 项目支出
A6: 合计 | B6: =C6+D6 -> 590000 | C6: =C7+C8+C9+C12 -> 270000 | D6: =D7+D8+D9+D12 -> 320000 | E6: =F6+G6 -> 430000 | F6: =F7+F8+F9+F12 -> 210000 | G6: =G7+G8+G9+G12 -> 220000
A7: 1.因公出国（境）费用 | B7: =C7+D7 -> 0 | E7: =F7+G7 -> 0
A8: 2.公务接待费 | B8: =C8+D8 -> 200000 | C8: 100000 | D8: 100000 | E8: =F8+G8 -> 100000 | F8: 50000 | G8: 50000
A9: 3.公务用车费 | B9: =C9+D9 -> 240000 | C9: 120000 | D9: 120000 | E9: =F9+G9 -> 240000 | F9: 120000 | G9: 120000
A10: 其中：（1）公务用车运行维护费 | B10: =C10+D10 -> 0 | E10: =F10+G10 -> 240000 | F10: 120000 | G10: 120000
A11: （2）公务用车购置 | B11: =C11+D11 -> 0 | E11: =F11+G11 -> 0
A12: 4、会议费 | B12: =C12+D12 -> 150000 | C12: 50000 | D12: 100000 | E12: =F12+G12 -> 90000 | F12: 40000 | G12: 50000

Sheet 9项目支出明细表
A1: 表九
A2: 专项支出明细表
F3: 金额单位：元
A4: 单位名称 | B4: 功能科目 | E4: 项目名称 | F4: 金额
A6: ** | B6: 类 | C6: 款 | D6: 项 | E6: 合 计 | F6: =SUM(F7:F33) -> 2720000
A7: 湘乡市司法局 | B7: 204 | C7: 06 | D7: 05 | E7: 普法工作 | F7: 460000
A8: 湘乡市司法局 | B8: 204 | C8: 06 | D8: 04 | E8: 安置帮教 | F8: 120000
A9: 湘乡市司法局 | B9: 204 | C9: 06 | D9: 06 | E9: 律师管理 | F9: 50000
A10: 湘乡市司法局 | B10: 204 | C10: 06 | D10: 07 | E10: 法律援助 | F10: 200000
A11: 湘乡市司法局 | B11: 204 | C11: 06 | D11: 10 | E11: 社区矫正 | F11: 510000
A12: 湘乡市司法局 | B12: 204 | C12: 06 | D12: 04 | E12: 医患调解 | F12: 200000
A13: 湘乡市司法局 | B13: 204 | C13: 06 | D13: 04 | E13: 道路调解 | F13: 100000
A14: 湘乡市司法局 | B14: 204 | C14: 06 | D14: 04 | E14: 人民调解 | F14: 400000
A15: 湘乡市司法局 | B15: 204 | C15: 06 | D15: 05 | E15: 法治视点栏目 | F15: 100000
A16: 湘乡市司法局 | B16: 204 | C16: 06 | D16: 12 | E16: 法律顾问经费 | F16: 100000
A17: 湘乡市司法局 | B17: 204 | C17: 06 | D17: 04 | E17: 司法业务专项 | F17: 480000

Sheet 10政府采购预算表
A1: 表十
A2: 2019年政府采购预算表
A3: 编制单位： | B3: 湘乡市司法局 | V3: 金额单位：元
A4: 单位名称 | B4: 预算科目 | D4: 项 目 | F4: 规 格 要 求 | G4: 数量 | H4: 计量单位 | I4: 资 金 来 源
B5: 代码 | C5: 名称 | D5: 采购项目 | E5: 采购品目 | I5: 总计 | J5: 公共预算财政拨款（补助） | O5: 基金预算财政拨款(补助) | P5: 专项收入和成品油税改经费 拨 款 | Q5: 财政代管资金专户 拨 款 | R5: 事业单位经营服务收入 | S5: 单位结余 | T5: 其他收入 | U5: 上级补助收入 | V5: 附属单位上缴收入
J6: 小计 | K6: 预算拨 款补助 | L6: 罚没款 收 入 | M6: 行政性收费收入 | N6: 国有资源有偿使用收入
A7: 1 | B7: 2 | C7: 3 | D7: 4 | E7: 5 | F7: 6 | G7: 7 | H7: 8 | I7: 9 | J7: 10 | K7: 11 | L7: 12 | M7: 13 | N7: 14 | O7: 15 | P7: 16 | Q7: 17 | R7: 18 | S7: 19 | T7: 20 | U7: 21 | V7: 22
A8: 湘乡市司法局 | B8: 2040607 | C8: 司法支出 | E8: 电脑 | G8: 20 | H8: 台 | I8: =J8+O8+P8+Q8+R8+S8+T8+U8+V8 -> 100000 | J8: =K8+L8+M8+N8 -> 100000 | K8: 100000
A9: 湘乡市司法局 | B9: 2040607 | C9: 司法支出 | E9: 打印机 | G9: 15 | H9: 台 | I9: =J9+O9+P9+Q9+R9+S9+T9+U9+V9 -> 30000 | J9: =K9+L9+M9+N9 -> 30000 | K9: 30000
A10: 湘乡市司法局 | B10: 2040604 | C10: 司法支出 | E10: 办公家具 | G10: 44 | H10: 套 | I10: =J10+O10+P10+Q10+R10+S10+T10+U10+V10 -> 88000 | J10: =K10+L10+M10+N10 -> 88000 | K10: 88000
A11: 湘乡市司法局 | B11: 2040604 | C11: 司法支出 | E11: 空调 | G11: 10 | H11: 台 | I11: =J11+O11+P11+Q11+R11+S11+T11+U11+V11 -> 70000 | J11: =K11+L11+M11+N11 -> 70000 | K11: 70000
A12: 湘乡市司法局 | B12: 2040605 | C12: 司法支出 | E12: 照相机 | G12: 22 | H12: 台 | I12: =J12+O12+P12+Q12+R12+S12+T12+U12+V12 -> 33000 | J12: =K12+L12+M12+N12 -> 33000 | K12: 33000
A13: 湘乡市司法局 | B13: 2040606 | C13: 司法支出 | E13: 调解桌椅 | G13: 10 | H13: 套 | I13: =J13+O13+P13+Q13+R13+S13+T13+U13+V13 -> 30000 | J13: =K13+L13+M13+N13 -> 30000 | K13: 30000
A14: 湘乡市司法局 | B14: 2040613 | C14: 司法支出 | E14: 信息化建设 | G14: 1 | H14: 套 | I14: =J14+O14+P14+Q14+R14+S14+T14+U14+V14 -> 759000 | J14: =K14+L14+M14+N14 -> 759000 | K14: 759000
I15: =J15+O15+P15+Q15+R15+S15+T15+U15+V15 -> 0 | J15: =K15+L15+M15+N15 -> 0
I16: =J16+O16+P16+Q16+R16+S16+T16+U16+V16 -> 0 | J16: =K16+L16+M16+N16 -> 0
I17: =J17+O17+P17+Q17+R17+S17+T17+U17+V17 -> 0 | J17: =K17+L17+M17+N17 -> 0
I18: =J18+O18+P18+Q18+R18+S18+T18+U18+V18 -> 0 | J18: =K18+L18+M18+N18 -> 0
I19: =J19+O19+P19+Q19+R19+S19+T19+U19+V19 -> 0 | J19: =K19+L19+M19+N19 -> 0
I20: =J20+O20+P20+Q20+R20+S20+T20+U20+V20 -> 0 | J20: =K20+L20+M20+N20 -> 0
I21: =J21+O21+P21+Q21+R21+S21+T21+U21+V21 -> 0 | J21: =K21+L21+M21+N21 -> 0
I22: =J22+O22+P22+Q22+R22+S22+T22+U22+V22 -> 0 | J22: =K22+L22+M22+N22 -> 0

Sheet 11非税收入表 
A1: 表十一
A2: 2019年非税收入预算表
A3: 编制单位：湘乡市司法局 | D3: 金额单位:元
A4: 纳入公共财政预算管理的非税收入
A5: 项 目 | B5: 本年预计收入 | C5: 部门预算中纳入的非税收入 | D5: 备注
A6: 一、纳入公共财政预算管理的非税收入 | B6: =SUM(B7:B12) -> 0 | C6: =SUM(C7:C12) -> 0 | D6: 此表无数据
A7: （1）专项收入 | D7: 0
A8: （2）行政事业性收费收入 | D8: 0
A9: （3）罚没收入 | D9: 0
A10: （4）国有资本经营收入 | D10: 0
A11: （5）国有资源（资产）有偿使用收入 | D11: 0
A12: （6）其他收入 | D12: 0
A13: 二、政府性基金收入 | D13: 0
A14: 三、纳入财政专户管理的收入 | B14: =B15+B16 -> 0 | C14: =C15+C16 -> 0 | D14: 0
A15: 1.教育收费收入 | D15: 0
A16: 2.其他收入
A17: 四、未纳入财政专户管理的收入 | B17: =B18+B19+B20 -> 0 | C17: =C18+C19+C20 -> 0 | D17: 0
A18: 1.事业收入 | D18: 0
A19: 2.经营收入 | D19: 0
A20: 3.其他收入 | D20: 0
D21: 0
D22: 0
D23: 0
D24: 0
D25: 0
D26: 0
D27: 0
A30: 本 年 收 入 合 计 | B30: =B6+B13+B14+B17 -> 0 | C30: =C6+C13+C14+C17 -> 0 | D30: =SUM(D6:D29) -> 0

Sheet 12非税收入安排的支出表
A1: 表十二
A2: 2019年部门预算中非税收入安排的支出表
A3: 编制单位：湘乡市司法局 | C3: 金额单位:元
A4: 项 目 | B4: 数额 | C4: 备注
A5: 一、一般公共服务支出 | C5: 此表无数据
A6: 二、外交支出 | C6: 0
A7: 三、国防支出 | C7: 0
A8: 四、公共安全支出 | C8: 0
A9: 五、教育支出 | C9: 0
A10: 六、科学技术支出 | C10: 0
A11: 七、文化旅游体育与传媒支出 | C11: 0
A12: 八、社会保障和就业支出 | C12: 0
A13: 九、卫生健康支出 | C13: 0
A14: 十、节能环保支出 | C14: 0
A15: 十一、城乡社区支出 | C15: 0
A16: 十二、农林水支出 | C16: 0
A17: 十三、交通运输支出 | C17: 0
... A26: 二十二、预备费 | C26: 0
A27: 二十三、国债还本付息支出
A28: 二十四、其他支出
A29: 二十五、转移性支出
A30: 本 年 支 出 合 计 | B30: =SUM(B5:B29) -> 0

Sheet 13政府购买服务预算表
A1: 101
A2: 政府购买服务项目支出（预算）表
A3: 编制单位：湘乡市司法局 | P3: 金额单位：元
A4: 单位名称 | B4: 单位代码 | C4: 支出功能科目名称（全称） | D4: 支出功能科目 编码 | E4: 购买服务指导目录名称（全称） | F4: 购买服务指导目录代码 | G4: 购买服务项目内容 | H4: 对应预算中的项目资金名称 | I4: 购买服务金额
I5: 合计 | J5: 一般公共预算拨款 | M5: 政府性基 金 | N5: 专户 | O5: 上级财政补助 | Q5: 其他资金
J6: 小计 | K6: 经费拨款 | L6: 纳入一般公共预算管理的非税收入 | N6: 管理的非税收 入 | O6: 公共财政补助 | P6: 政府性基金补 助
A7: 湘乡市司法局 | B7: 11430381006234465P | C7: 社区矫正服务 | D7: 2040604 | E7: 社会管理服务-社区矫正类-社区矫正政策研究、咨询及宣传服务 | F7: B0901 | G7: 心理咨询服务 | H7: 社区矫正 | I7: =J7+M7+N7+O7+P7+Q7 -> 80000 | J7: =K7+L7 -> 80000 | L7: 80000
A8: 湘乡市司法局 | B8: 11430381006234465P | C8: 医调服务 | D8: 2040604 | E8: 社会管理服务-人民调解类-购买人民调解化解民间纠纷服务 | F8: B0801 | G8: 购买社会服务 | H8: 医患调解 | I8: =J8+M8+N8+O8+P8+Q8 -> 100000 | J8: =K8+L8 -> 100000 | L8: 100000
A9: 湘乡市司法局 | B9: 11430381006234465P | C9: 法律援助服务 | D9: 2040607 | E9: 社会管理服务-法律援助类-法律援助案件代理、刑事辩护服务 | F9: B0402 | G9: 法律援助案件办理 | H9: 法律援助 | I9: =J9+M9+N9+O9+P9+Q9 -> 80000 | J9: =K9+L9 -> 80000 | L9: 80000
I10: =J10+M10+N10+O10+P10+Q10 -> 0 | J10: =K10+L10 -> 0
I11: =J11+M11+N11+O11+P11+Q11 -> 0 | J11: =K11+L11 -> 0
I12: =J12+M12+N12+O12+P12+Q12 -> 0 | J12: =K12+L12 -> 0
I13: =J13+M13+N13+O13+P13+Q13 -> 0 | J13: =K13+L13 -> 0
I14: =J14+M14+N14+O14+P14+Q14 -> 0 | J14: =K14+L14 -> 0
I15: =J15+M15+N15+O15+P15+Q15 -> 0 | J15: =K15+L15 -> 0
I16: =J16+M16+N16+O16+P16+Q16 -> 0 | J16: =K16+L16 -> 0
I17: =J17+M17+N17+O17+P17+Q17 -> 0 | J17: =K17+L17 -> 0
I18: =J18+M18+N18+O18+P18+Q18 -> 0 | J18: =K18+L18 -> 0
I19: =J19+M19+N19+O19+P19+Q19 -> 0 | J19: =K19+L19 -> 0
I20: =J20+M20+N20+O20+P20+Q20 -> 0 | J20: =K20+L20 -> 0
I21: =J21+M21+N21+O21+P21+Q21 -> 0 | J21: =K21+L21 -> 0
I22: =J22+M22+N22+O22+P22+Q22 -> 0 | J22: =K22+L22 -> 0
A23: 归口股室审核： | G23: 综合计划股审核： | O23: 预算股审核：
I27: =+SUM(I7:I23) -> 260000

Sheet 部门整体支出绩效目标申报表
A1: 表十四
A2: 部门整体支出绩效目标申报表 （2021年度）
A3: 填报单位（盖章）湘乡市司法局
A4: 部门基本信息 | C4: 单位名称 | E4: 湘乡市司法局
C5: 通讯地址 | E5: 湘乡市东山街道人民路
C6: 单位预算绩效管理联系人 | E6: 周晁式 | G6: 联系电话 | H6: 13875210509
C7: 人员编制数 | E7: 118 | G7: 实有人数 | H7: 118
C8: 单位职能 | E8: 主要执行国家有关司法行政 工作的方针、政策、法规；编制全市司法行政工作中长期规划和年度计划并监督实施。组织实施司法行政方面的法律、法规和规章；会同有关部门监督、检查执行法律、法规和规章情况。拟订全市法制宣传教育和依法治市规划，经批准后组织实施；指导全市普法依法治理工作。负责指导监督管理全市律师工作和公证工作。指导全市人民调解工作及司法所、司法助理员和基层法律服务工作；参与社会治安综合治理工作。指导监督全市法律援助工作，指派承办法律援助案件。指导管理全市社区矫正工作；指导刑满释放和解除劳动教养人员的安置帮教工作。指导管理全市面向社会的司法鉴定工作。指导全市企业法律顾问工作。承担全市司法行政系统队伍建设、教育培训、考核奖励和警备工作。承办市人民政府交办的其他事项。
C9: 单位年度收入预算（万元）
C10: 收入合计 | E10: 公共财政拨款 | F10: 政府性基金拨款 | G10: 非税收入拨款 | H10: 其他拨款
C11: 1805 | E11: 1805
C12: 单位年度支出预算（万元）
C13: 支出合计 | E13: 基本支出 | G13: 项目支出
C14: 1805 | E14: 1588 | G14: 217
C15: 其中 | E15: 三公经费预算（万元）
C16: 合计 | E16: 公务用车运行和购置费 | G16: 因公出国（境）费 | I16: 公务接待费
C17: 11 | E17: 17.6 | G17: 0 | I17: 7
A18: 部门 整体 支出 绩效 目标 | C18: 市财政每年安排司法局人员经费、公用经费和项目支出经费。本年安排：1、安排基本支出1422万元，包括用于基本工资、津贴补贴等人员经费以及办公费、印刷费、水电费、差旅费、办公设备购置等日常公用经费。2、项目支出352万元，是我单位为完成特定行政工作任务而发生的支出。其中：普法工作支出31万元、安置帮教支出11.8万元、律师管理支出5万元、法律援助支出20万元、社区矫正支出36万元、医患调解支出20万元、道路调解支出10万元、人民调解支出35万元、法治视点栏目支出10万元、法律顾问经费支出10万元、司法业务专项28万元、行政执法培训20万元、依法行政考核考评10万元、重大行政决策法律顾问工作经费10万元、政府合同审查管理10万元、听证员培训10万元、典型案例发布10万元、专家咨询库经费5万元、行政复议工作5万元、行政民事案件办理20万元。
A23: 部 门 整 体 支 出 年 度 绩 效 指 标 | C23: 一级指标 | E23: 二级指标 | F23: 指标内容 | H23: 指标值 | I23: 备注
C24: 产出指标 | E24: 数量指标 | F24: 普法宣传场次 | H24: 600次
F25: 社区矫正人数 | H25: 358人
F26: 人民调解案件数 | H26: 3780件
F27: 视频会见室创建及文明创建 | H27: 22所
F28: 安置帮教次数 | H28: 50次
F29: 律师管理件数 | H29: 320件
F30: 法律援助件数 | H30: 450件
F31: 医患调解件数 | H31: 285件
F32: 道路调解件数 | H32: 340件
F33: 法治视点栏目次数 | H33: 12次
F34: 法律顾问次数 | H34: 50次
F35: 行政执法培训场数 | H35: 20场
F36: 依法行政考核考评次数 | H36: 30次
... F43: 行政民事案件办理件数 | H43: 220件
E44: 质量指标 | F44: 普法宣传到位率 | H44: 1
F45: 社区矫正管理覆盖率 | H45: 1
F46: 人民调解案件成功率 | H46: 0.98
F47: 视频会见室创建及文明创建率 | H47: 1
F48: 安置帮教 | H48: 1
F49: 律师管理到位率 | H49: 1
F50: 法律援助到位率 | H50: 1
...
